BEGIN:VCALENDAR
VERSION:2.0
PRODID:-//Shooting Star Casino | Minnesota Casino, Hotel and Event Center in Mahnomen, Minnesota - ECPv6.15.12.2//NONSGML v1.0//EN
CALSCALE:GREGORIAN
METHOD:PUBLISH
X-WR-CALNAME:Shooting Star Casino | Minnesota Casino, Hotel and Event Center in Mahnomen, Minnesota
X-ORIGINAL-URL:https://www.starcasino.com
X-WR-CALDESC:Events for Shooting Star Casino | Minnesota Casino, Hotel and Event Center in Mahnomen, Minnesota
REFRESH-INTERVAL;VALUE=DURATION:PT1H
X-Robots-Tag:noindex
X-PUBLISHED-TTL:PT1H
BEGIN:VTIMEZONE
TZID:America/Chicago
BEGIN:DAYLIGHT
TZOFFSETFROM:-0600
TZOFFSETTO:-0500
TZNAME:CDT
DTSTART:20250309T080000
END:DAYLIGHT
BEGIN:STANDARD
TZOFFSETFROM:-0500
TZOFFSETTO:-0600
TZNAME:CST
DTSTART:20251102T070000
END:STANDARD
BEGIN:DAYLIGHT
TZOFFSETFROM:-0600
TZOFFSETTO:-0500
TZNAME:CDT
DTSTART:20260308T080000
END:DAYLIGHT
BEGIN:STANDARD
TZOFFSETFROM:-0500
TZOFFSETTO:-0600
TZNAME:CST
DTSTART:20261101T070000
END:STANDARD
BEGIN:DAYLIGHT
TZOFFSETFROM:-0600
TZOFFSETTO:-0500
TZNAME:CDT
DTSTART:20270314T080000
END:DAYLIGHT
BEGIN:STANDARD
TZOFFSETFROM:-0500
TZOFFSETTO:-0600
TZNAME:CST
DTSTART:20271107T070000
END:STANDARD
END:VTIMEZONE
BEGIN:VEVENT
DTSTART;VALUE=DATE:20260501
DTEND;VALUE=DATE:20260503
DTSTAMP:20260425T094558
CREATED:20240515T141633Z
LAST-MODIFIED:20260304T174944Z
UID:10054043-1777593600-1777766399@www.starcasino.com
SUMMARY:Ember
DESCRIPTION:8pm-12:30am\nAs a Midwest casino and festival scene crowd favorite\, Ember has cultivated their signature style by creating forward-thinking pop country music influenced by their vast experience performing dance-driven renditions of popular rock and country hits. Ember refines their entertainment skills through hundreds of performances\, including events featuring Neal McCoy\, Terri Clark\, The Marshall Tucker Band\, Pure Prairie League\, Eddie Montgomery\, Whey Jennings\, and Lamont Cranston. Ember has captured a regional spotlight\, winning a first place slot as a finalist in the 2023 Hodag Country Band Pickoff\, resulting in two festival performances and an on-air performance on 97.3 WHDG. Fun show\, fun band! \n 
URL:https://www.starcasino.com/event/ember/
CATEGORIES:Mustang Lounge
ATTACH;FMTTYPE=image/jpeg:https://www.starcasino.com/wp-content/uploads/2023/05/Ember-2023.jpg
END:VEVENT
END:VCALENDAR