BEGIN:VCALENDAR
VERSION:2.0
PRODID:-//Shooting Star Casino | Minnesota Casino, Hotel and Event Center in Mahnomen, Minnesota - ECPv6.15.12.2//NONSGML v1.0//EN
CALSCALE:GREGORIAN
METHOD:PUBLISH
X-ORIGINAL-URL:https://www.starcasino.com
X-WR-CALDESC:Events for Shooting Star Casino | Minnesota Casino, Hotel and Event Center in Mahnomen, Minnesota
REFRESH-INTERVAL;VALUE=DURATION:PT1H
X-Robots-Tag:noindex
X-PUBLISHED-TTL:PT1H
BEGIN:VTIMEZONE
TZID:America/Chicago
BEGIN:DAYLIGHT
TZOFFSETFROM:-0600
TZOFFSETTO:-0500
TZNAME:CDT
DTSTART:20250309T080000
END:DAYLIGHT
BEGIN:STANDARD
TZOFFSETFROM:-0500
TZOFFSETTO:-0600
TZNAME:CST
DTSTART:20251102T070000
END:STANDARD
BEGIN:DAYLIGHT
TZOFFSETFROM:-0600
TZOFFSETTO:-0500
TZNAME:CDT
DTSTART:20260308T080000
END:DAYLIGHT
BEGIN:STANDARD
TZOFFSETFROM:-0500
TZOFFSETTO:-0600
TZNAME:CST
DTSTART:20261101T070000
END:STANDARD
BEGIN:DAYLIGHT
TZOFFSETFROM:-0600
TZOFFSETTO:-0500
TZNAME:CDT
DTSTART:20270314T080000
END:DAYLIGHT
BEGIN:STANDARD
TZOFFSETFROM:-0500
TZOFFSETTO:-0600
TZNAME:CST
DTSTART:20271107T070000
END:STANDARD
END:VTIMEZONE
BEGIN:VEVENT
DTSTART;TZID=America/Chicago:20260529T200000
DTEND;TZID=America/Chicago:20260530T200000
DTSTAMP:20260425T094811
CREATED:20240118T192611Z
LAST-MODIFIED:20260304T175440Z
UID:10006482-1780084800-1780171200@www.starcasino.com
SUMMARY:Stimulus Package
DESCRIPTION:8pm-12:30am\nStimulus Package is a powerhouse female-fronted cover band from Minnesota\, igniting stages with fresh\, electrifying takes on timeless classics and modern radio hits.\nLed by the captivating vocals of frontwoman Lisa\, the quartet delivers tight\, locked-in rhythms\, soulful harmonies\, and tone-rich guitar work that transforms familiar songs into unforgettable experiences.\nThey breathe new life into standards and reimagined chart-toppers\, infusing every performance with raw emotion\, infectious energy\, and the pure joy music was always meant to evoke—keeping dance floors packed and crowds buzzing from casinos and weddings to private events and beyond.\nWhether it’s a heartfelt ballad\, a foot tappin’ country number or a high-octane rocker\, Stimulus Package turns every set into a celebration that feels both nostalgic and thrillingly current.
URL:https://www.starcasino.com/event/stimulus-package-2-2/
CATEGORIES:Mustang Lounge
ATTACH;FMTTYPE=image/png:https://www.starcasino.com/wp-content/uploads/2024/01/STIMULUS-PACKAGE-2026.png
END:VEVENT
END:VCALENDAR