BEGIN:VCALENDAR
VERSION:2.0
PRODID:-//Shooting Star Casino | Minnesota Casino, Hotel and Event Center in Mahnomen, Minnesota - ECPv6.15.12.2//NONSGML v1.0//EN
CALSCALE:GREGORIAN
METHOD:PUBLISH
X-WR-CALNAME:Shooting Star Casino | Minnesota Casino, Hotel and Event Center in Mahnomen, Minnesota
X-ORIGINAL-URL:https://www.starcasino.com
X-WR-CALDESC:Events for Shooting Star Casino | Minnesota Casino, Hotel and Event Center in Mahnomen, Minnesota
REFRESH-INTERVAL;VALUE=DURATION:PT1H
X-Robots-Tag:noindex
X-PUBLISHED-TTL:PT1H
BEGIN:VTIMEZONE
TZID:America/Chicago
BEGIN:DAYLIGHT
TZOFFSETFROM:-0600
TZOFFSETTO:-0500
TZNAME:CDT
DTSTART:20250309T080000
END:DAYLIGHT
BEGIN:STANDARD
TZOFFSETFROM:-0500
TZOFFSETTO:-0600
TZNAME:CST
DTSTART:20251102T070000
END:STANDARD
BEGIN:DAYLIGHT
TZOFFSETFROM:-0600
TZOFFSETTO:-0500
TZNAME:CDT
DTSTART:20260308T080000
END:DAYLIGHT
BEGIN:STANDARD
TZOFFSETFROM:-0500
TZOFFSETTO:-0600
TZNAME:CST
DTSTART:20261101T070000
END:STANDARD
BEGIN:DAYLIGHT
TZOFFSETFROM:-0600
TZOFFSETTO:-0500
TZNAME:CDT
DTSTART:20270314T080000
END:DAYLIGHT
BEGIN:STANDARD
TZOFFSETFROM:-0500
TZOFFSETTO:-0600
TZNAME:CST
DTSTART:20271107T070000
END:STANDARD
END:VTIMEZONE
BEGIN:VTIMEZONE
TZID:UTC
BEGIN:STANDARD
TZOFFSETFROM:+0000
TZOFFSETTO:+0000
TZNAME:UTC
DTSTART:20250101T000000
END:STANDARD
END:VTIMEZONE
BEGIN:VEVENT
DTSTART;TZID=America/Chicago:20260503T170000
DTEND;TZID=America/Chicago:20260503T200000
DTSTAMP:20260425T113934
CREATED:20260423T140809Z
LAST-MODIFIED:20260423T140809Z
UID:10184275-1777827600-1777838400@www.starcasino.com
SUMMARY:34th Anniversary Highway to Winning
DESCRIPTION:MAY 3\, 10\, 17 & 24 + MEMORIAL DAY\n5PM-8PM | MAHNOMEN & BAGLEY\nHit the road to incredible prizes with our 34th Anniversary Highway to Winning celebration! Join us in May for an unforgettable journey where you can win your share of over $110\,000 in cash & prizes\, including a brand-new pickup truck. From April 27 through May 25\, guests receive one entry for every 25 slot/tier points earned.\n\nDOUBLE ENTRIES the first three Tuesdays and Thursdays in May.\n\nHOURLY CASH DRAWINGS | MAY 3\, 10\, 17\, 24 & 25 | 5PM-8PM\n\nGRAND PRIZE DRAWING | MAY 25 | 9PM \nClick here for rules
URL:https://www.starcasino.com/event/34th-anniversary-highway-to-winning/2026-05-03/
CATEGORIES:Bagley Promotions,Mahnomen Promotions
ATTACH;FMTTYPE=image/png:https://www.starcasino.com/wp-content/uploads/2026/04/HighwaytoWinning_34Anniversary_May2026_web.png
END:VEVENT
BEGIN:VEVENT
DTSTART;TZID=UTC:20260504T180000
DTEND;TZID=UTC:20260504T190000
DTSTAMP:20260425T113934
CREATED:20251001T161009Z
LAST-MODIFIED:20260422T181028Z
UID:10019227-1777917600-1777921200@www.starcasino.com
SUMMARY:Teleconference Bingo Fun!
DESCRIPTION:Teleconference Bingo will be played every Friday and Monday at 6pm.\nFriday\, April 24 | 52#s for 10-$1\,000 Winners\nAll games pay $500\nConsolation on Coverall $500\nMinimum payout of $100 per game.\n(Cost of Green Cards – $5) \nMonday\, April 27 | 52#s for 1 – $1\,199 Winner\nAll games pay $200\nConsolation on Coverall $200\nMinimum payout of $50 per game.\n(Cost of Purple Cards – $3) \nTeleconference is played at:\n\nLITTLE DIPPER BAR & GRILL AT SHOOTING STAR – BAGLEY!\nMUSTANG LOUNGE\nIce Cracking\nBerry’s Bar\nBones 113 (Mondays Only)\nCallaway\nLean To Tavern\nMahnomen Liquor Store – Wild Rice Lounge\nPinehurst\nOgema Liquor Store (Fridays Only)\nRuffed Grouse Roadhouse\nPeachy’s Pub\nSundown Bar (Fridays Only)\nCedar Crest (Memorial Day-Labor Day – Mondays Only)\nMahnomen Country Club (Memorial Day-Labor Day – Fridays Only)\n\n*Locations subject to change. \n  \nClick Here for Rules
URL:https://www.starcasino.com/event/teleconference-bingo-2-2/2026-05-04/
CATEGORIES:Bingo
ATTACH;FMTTYPE=image/jpeg:https://www.starcasino.com/wp-content/uploads/2022/09/TeleConf_MonFri_Sept2022_WebGraphic.jpg
END:VEVENT
BEGIN:VEVENT
DTSTART;TZID=America/Chicago:20260505T070000
DTEND;TZID=America/Chicago:20260505T190000
DTSTAMP:20260425T113934
CREATED:20241023T171152Z
LAST-MODIFIED:20241203T204226Z
UID:10096732-1777964400-1778007600@www.starcasino.com
SUMMARY:50+ Spectacular Senior Stars
DESCRIPTION:Extended Hours & Amazing Prizes\nTuesdays | Mahnomen: 7AM-7PM | Bagley: 11AM-7PM\nEarn 15 points and swipe at the kiosk to participate in the Spin the Wheel Kiosk Game and you could win Star Cash\, a dining offer or up to $100 cash. \nClick here for rules.
URL:https://www.starcasino.com/event/50-spectacular-senior-stars-2/2026-05-05/
CATEGORIES:Bagley Promotions,Mahnomen Promotions
ATTACH;FMTTYPE=image/png:https://www.starcasino.com/wp-content/uploads/2024/08/Spectacular-Senior-Stars2024_webevent.png
END:VEVENT
BEGIN:VEVENT
DTSTART;VALUE=DATE:20260506
DTEND;VALUE=DATE:20260507
DTSTAMP:20260425T113934
CREATED:20250731T145446Z
LAST-MODIFIED:20251222T150302Z
UID:10155013-1778025600-1778111999@www.starcasino.com
SUMMARY:Wednesday Thrills
DESCRIPTION:EVERY WEDNESDAY | 12AM-11:59PM \nPlay using your Star Rewards card and you could receive Star Cash!\nEarn 25 points = $5 Star Cash\nEarn 50 points = $5 Star Cash\nEarn 75 Points = $5 Star Cash\nEarn 125 Points = $10 Star Cash \nClick here for official rules.
URL:https://www.starcasino.com/event/wednesday-thrills/2026-05-06/
CATEGORIES:Bagley Promotions,Mahnomen Promotions
ATTACH;FMTTYPE=image/jpeg:https://www.starcasino.com/wp-content/uploads/2020/09/WednesdayThrills_Oct2020_WebGraphic.jpg
END:VEVENT
BEGIN:VEVENT
DTSTART;TZID=America/Chicago:20260506T180000
DTEND;TZID=America/Chicago:20260506T200000
DTSTAMP:20260425T113934
CREATED:20241023T165814Z
LAST-MODIFIED:20241023T170753Z
UID:10096468-1778090400-1778097600@www.starcasino.com
SUMMARY:Meat Raffle
DESCRIPTION:Swipe your Star Rewards card Wednesdays\, between 5PM-7:59PM\, to receive a FREE entry slip. Place slip in the drawing barrel at Star Rewards. Drawings will be held each hour. \n8PM | $75 Meat Bundle\n7PM | $50 Meat Bundle\n6PM | $25 Meat Bundle \nClick here for rules brochure.
URL:https://www.starcasino.com/event/meat-raffle-2/2026-05-06/
CATEGORIES:Bagley Promotions
ATTACH;FMTTYPE=image/png:https://www.starcasino.com/wp-content/uploads/2023/10/MeatRaffleNov2023_WebEvent.png
END:VEVENT
BEGIN:VEVENT
DTSTART;VALUE=DATE:20260508
DTEND;VALUE=DATE:20260510
DTSTAMP:20260425T113934
CREATED:20240118T193245Z
LAST-MODIFIED:20260304T175029Z
UID:10006457-1778198400-1778371199@www.starcasino.com
SUMMARY:Jake McVey
DESCRIPTION:8pm-12:30am\nMusic has the power to move the masses and few artists understand that better than Jake McVey. A relentless road musician who performs 250+ dates a year\, McVey has earned a loyal fan base that’s addicted to his fiery stage show and arsenal of ear-grabbing dance frenzy songs. \nA compelling performer who strives to deliver upbeat music and a youthful enthusiasm with a seasoned eye for reading a crowd\, Jake McVey gives his all at every show. “It’s all about entertaining the fans and making new ones and showing each and every person in the room a good time.” Jake and his compadres perform hits from artists from Garth Brooks\, Montgomery Gentry\, Brad Paisley\, Big & Rich\, Joe Nichols and many many more! Jake McVey has shared the stage with some of country’s most acclaimed acts\, including Blake Shelton\, Thomas Rhett and many more!! \nCurrently doing shows with Justin Moore & Priscilla Block on the “You\, Me & Whiskey” Tour and was added to dates with Travis Tritt. \n* Opened and Toured with Brad Paisley\, Lady A\, Little Big Town\, and over 40 major acts. \n* Tour with full production and lights (If needed) \n* 2 top 50 Billboard charting singles in 2018 – 2022 \n* Management: RPM (Nashville) \n* Publicist & Tour Promotions with Radio
URL:https://www.starcasino.com/event/jake-mcvey-2/
CATEGORIES:Mustang Lounge
ATTACH;FMTTYPE=image/jpeg:https://www.starcasino.com/wp-content/uploads/2024/01/Jake-McVey.jpg
END:VEVENT
BEGIN:VEVENT
DTSTART;TZID=America/Chicago:20260508T190000
DTEND;TZID=America/Chicago:20260508T230000
DTSTAMP:20260425T113934
CREATED:20231025T144444Z
LAST-MODIFIED:20241014T124703Z
UID:10090752-1778266800-1778281200@www.starcasino.com
SUMMARY:Hot Seats
DESCRIPTION:Bagley | Fridays & Saturdays | 7pm-11pm\nWin up to $150 cash!\nPlay using your Star Rewards card and you could win up to $150 cash. One winners will be selected each hour. \n  \nClick Here for Rules
URL:https://www.starcasino.com/event/125-hot-seat-drawings-2/2026-05-08/
CATEGORIES:Bagley Promotions
ATTACH;FMTTYPE=image/jpeg:https://www.starcasino.com/wp-content/uploads/2023/10/150HotSeats_Oct2024_webevent.jpg
END:VEVENT
BEGIN:VEVENT
DTSTART;TZID=America/Chicago:20260510T080000
DTEND;TZID=America/Chicago:20260510T235900
DTSTAMP:20260425T113934
CREATED:20260423T141134Z
LAST-MODIFIED:20260423T141134Z
UID:10184280-1778400000-1778457540@www.starcasino.com
SUMMARY:Mother's Day
DESCRIPTION:Sunday\, May 10\nMahnomen | 8AM-11:59PM\nBagley | 11AM-11:59PM\nCelebrate the special women in your life\nat Shooting Star. Ladies\, swipe your Star\nRewards card on Mother’s Day for $10 Star\nCash and a free travel bag.\n*while supplies last \nClick here for rules
URL:https://www.starcasino.com/event/mothers-day-2/
CATEGORIES:Bagley Promotions,Mahnomen Promotions
ATTACH;FMTTYPE=image/png:https://www.starcasino.com/wp-content/uploads/2026/04/MothersDay_2026_website.png
END:VEVENT
BEGIN:VEVENT
DTSTART;TZID=America/Chicago:20260513T190000
DTEND;TZID=America/Chicago:20260513T200000
DTSTAMP:20260425T113934
CREATED:20260310T183334Z
LAST-MODIFIED:20260310T183334Z
UID:10179645-1778698800-1778702400@www.starcasino.com
SUMMARY:We Fest Karaoke Contest
DESCRIPTION:Mustang Lounge | Mahnomen \nApril 8\, 22 & 29 & May 13 | 7PM \nFinals: May 27 | 7PM \nShowdown: July 12 | 1PM \nThe WE Fest Karaoke Contest is back and it’s your chance to win two general admission tickets to WE Fest\,\nPLUS\, sing the national anthem on the main stage on August 7! \nCompete at the Mustang Lounge on the dates above with the hopes of making it to the Showdown on July 12 at 1PM. \nRegular Karaoke to follow
URL:https://www.starcasino.com/event/we-fest-karaoke-contest/2026-05-13/
CATEGORIES:Mustang Lounge
ATTACH;FMTTYPE=image/png:https://www.starcasino.com/wp-content/uploads/2026/03/WeFestKaraokeShowdown2026_webgraphic.png
END:VEVENT
BEGIN:VEVENT
DTSTART;TZID=America/Chicago:20260515T200000
DTEND;TZID=America/Chicago:20260515T210000
DTSTAMP:20260425T113934
CREATED:20260210T123929Z
LAST-MODIFIED:20260212T190935Z
UID:10176449-1778875200-1778878800@www.starcasino.com
SUMMARY:Kansas
DESCRIPTION:With a legendary career spanning five decades\, KANSAS has firmly established itself as one of America’s iconic classic rock bands. This “garage band” from Topeka released their debut album in 1974 after being discovered by Wally Gold\, who worked for Don Kirshner\, and have gone on to sell more than 30 million albums worldwide. \nComposing a catalogue that includes sixteen studio albums and five live albums\, KANSAS has produced eight gold albums\, three sextuple-Platinum albums (Leftoverture\, Point of Know Return\, Best of KANSAS)\, one platinum live album (Two for the Show)\, one quadruple-Platinum single ‘Carry On Wayward Son\,’ and another triple-Platinum single ‘Dust in the Wind.’ KANSAS appeared on the Billboard charts for over 200 weeks throughout the ‘70’s and ‘80’s and played to sold-out arenas and stadiums throughout North America\, Europe and Japan. ‘Carry On Wayward Son’ continues to be one of the top five most played songs on classic rock radio\, and ‘Dust In the Wind’ has been played on the radio more than three million times! \nThe summer of 2020 marked the release of “The Absence of Presence\,” KANSAS’s sixteenth studio album\, which debuted at #10 on Billboard’s Top Current Albums chart.  The wide-ranging progressive rock album\, released by InsideOut Music\, follows-up 2016’s “The Prelude Implicit\,” which debuted at #14 on Billboard’s Top 200 Albums chart. \nThroughout 2016-2022\, the band celebrated the anniversaries of multi-Platinum breakout albums “Leftoverture” and “Point of Know Return” with anniversary tours for both albums. Both tours were commemorated with live album releases “Leftoverture Live & Beyond” (2017) & “Point of Know Return Live & Beyond” (2021). \nThe band\, which is currently comprised of vocalist/keyboardist Ronnie Platt\, keyboardist/vocalist Tom Brislin\, guitarist Zak Rizvi\, guitarist Scott Bernard\, violinist/guitarist Joe Deninzon\, bassist/vocalist Dan McGowan\, original guitarist Richard Williams\, and original drummer Phil Ehart. Eric Holmquist performs on drums while Phil Ehart continues to recover from a major heart attack. KANSAS continues to energize audiences with their powerful live performances. \nAlong with constant touring\, KANSAS continues to remain a fixture of Classic Rock radio and popular culture. The band continues to reach a whole new audience through their unmistakable presence in various commercials\, live sports broadcasts\, popular video games Rock Band\, Guitar Hero\, and Grand Theft Auto; the band’s documentary film “KANSAS: Miracles Out of Nowhere\,” and a guest appearance on The CW’s television show ‘Walker.’ The band’s songs have also been included in various television shows such as ‘Supernatural\,’ ‘Reacher\,’ ‘All Elite Wrestling\,’ ‘South Park\,’ ‘The Office\,’ and ‘The Simpsons;’ as well as blockbuster films including ‘Old School\,’ ‘The Suicide Squad\,’ ‘Anchorman\,’ ‘Pitch Perfect\,’ ‘Happy Gilmore\,’ and ‘Happy Gilmore 2.’ \nTickets on Sale Monday\, February 23 at 9AM. \nStar $90\nSelect $47
URL:https://www.starcasino.com/event/kansas/
CATEGORIES:Entertainment
ATTACH;FMTTYPE=image/png:https://www.starcasino.com/wp-content/uploads/2026/02/KansasMay2026_webgraphic.png
END:VEVENT
BEGIN:VEVENT
DTSTART;TZID=America/Chicago:20260529T200000
DTEND;TZID=America/Chicago:20260530T200000
DTSTAMP:20260425T113934
CREATED:20240118T192611Z
LAST-MODIFIED:20260304T175440Z
UID:10006482-1780084800-1780171200@www.starcasino.com
SUMMARY:Stimulus Package
DESCRIPTION:8pm-12:30am\nStimulus Package is a powerhouse female-fronted cover band from Minnesota\, igniting stages with fresh\, electrifying takes on timeless classics and modern radio hits.\nLed by the captivating vocals of frontwoman Lisa\, the quartet delivers tight\, locked-in rhythms\, soulful harmonies\, and tone-rich guitar work that transforms familiar songs into unforgettable experiences.\nThey breathe new life into standards and reimagined chart-toppers\, infusing every performance with raw emotion\, infectious energy\, and the pure joy music was always meant to evoke—keeping dance floors packed and crowds buzzing from casinos and weddings to private events and beyond.\nWhether it’s a heartfelt ballad\, a foot tappin’ country number or a high-octane rocker\, Stimulus Package turns every set into a celebration that feels both nostalgic and thrillingly current.
URL:https://www.starcasino.com/event/stimulus-package-2-2/
CATEGORIES:Mustang Lounge
ATTACH;FMTTYPE=image/png:https://www.starcasino.com/wp-content/uploads/2024/01/STIMULUS-PACKAGE-2026.png
END:VEVENT
BEGIN:VEVENT
DTSTART;TZID=America/Chicago:20260531T140000
DTEND;TZID=America/Chicago:20260531T200000
DTSTAMP:20260425T113934
CREATED:20260423T141455Z
LAST-MODIFIED:20260423T141455Z
UID:10184281-1780236000-1780257600@www.starcasino.com
SUMMARY:Hot Seats Summer Kickoff
DESCRIPTION:Chance to win $2\,500\nSunday\, May 31 | 2PM-8PM\nMahnomen & Bagley\nFire up at the Summer Kickoff Hot Seats where you could win your share of $20\,000! Every half hour from 2PM-8PM\, one guest will win between $1\,000 up to $2\,500 in the grand finale. Have your Star Rewards card inserted and actively playing slots at drawing time to qualify. \nClick here for rules
URL:https://www.starcasino.com/event/hot-seats-summer-kickoff/
CATEGORIES:Bagley Promotions,Mahnomen Promotions
ATTACH;FMTTYPE=image/png:https://www.starcasino.com/wp-content/uploads/2026/04/HotSeats_SummerKickoff_2026_Website.png
END:VEVENT
BEGIN:VEVENT
DTSTART;VALUE=DATE:20260601
DTEND;VALUE=DATE:20260602
DTSTAMP:20260425T113934
CREATED:20251229T201159Z
LAST-MODIFIED:20251229T201159Z
UID:10172149-1780272000-1780358399@www.starcasino.com
SUMMARY:Birthday Win's & Wishes
DESCRIPTION:Celebrate your birthday at Shooting Star Mahnomen and Bagley! \nJoin us during your birthday month and you could win between\n$5 and $100 Star Cash! To receive your birthday wish\, swipe your Star Rewards card at a kiosk to see what you win. \nClick here for rules.
URL:https://www.starcasino.com/event/birthday-wins-wishes/2026-06-01/
CATEGORIES:Bagley Promotions,Mahnomen Promotions
ATTACH;FMTTYPE=image/png:https://www.starcasino.com/wp-content/uploads/2025/12/BirthdayWishes2024_webgraphic.png
END:VEVENT
BEGIN:VEVENT
DTSTART;TZID=America/Chicago:20260605T200000
DTEND;TZID=America/Chicago:20260605T210000
DTSTAMP:20260425T113934
CREATED:20260224T145357Z
LAST-MODIFIED:20260224T145357Z
UID:10177925-1780689600-1780693200@www.starcasino.com
SUMMARY:Terri Clark
DESCRIPTION:From paying her dues at Tootsie’s Orchid Lounge in Nashville to holding the honor of being the only Canadian female member of the Grand Ole Opry\, Terri Clark continues to build an unforgettable legacy primed for the history books of Country music. \nThe multi-JUNO Award winner boasts over five million albums sold\, three RIAA Platinum and two RIAA Gold-certified albums\, Canadian Gold\, Platinum\, Double Platinum and Triple Platinum-certified albums\, 13 Top 10 singles including six No.1s in Canada and the U.S.\, 19 CCMA Awards and multiple ACM and CMA Female Vocalist of the Year award nominations. Top hits include\, “Girls Lie Too\,” “Better Things To Do”  &  “Poor Poor Pitiful Me”. \nTerri Clark: Take Two is the next chapter in Clark’s long history of successes and accolades. Released Friday\, May 31\, 2024 the eight song album from the legendary singer\, songwriter and guitar-slinger pairs her with some of the biggest stars in music today—including Kelly Clarkson\, Carly Pearce\, Ashley McBryde\, Lainey Wilson\, Ben Rector and Cody Johnson—for a duets project reimagining her iconic\, chart-topping hits.\nTickets on Sale Monday\, March 9 at 9AM.\nStar $60\nSelect $30
URL:https://www.starcasino.com/event/terri-clark-2/
CATEGORIES:Entertainment
ATTACH;FMTTYPE=image/png:https://www.starcasino.com/wp-content/uploads/2026/02/TerriClarkJune2026_webgraphic.png
END:VEVENT
BEGIN:VEVENT
DTSTART;TZID=America/Chicago:20260626T200000
DTEND;TZID=America/Chicago:20260626T213000
DTSTAMP:20260425T113934
CREATED:20240514T143313Z
LAST-MODIFIED:20260317T144653Z
UID:10053787-1782504000-1782509400@www.starcasino.com
SUMMARY:Starship
DESCRIPTION:Mickey Thomas is the owner of the soaring voice that propelled STARSHIP through the decade of the 80’s. With his soulful and compelling vocals\, Mickey has established himself as one of Rock Music’s most recognizable stars. \nMickey made his mark in 1976 as lead vocalist on the mega-hit “Fooled Around And Fell In Love” with The Elvin Bishop Band. In 1979\, Mickey joined Jefferson Starship as the lead vocalist\, after the departure of Grace Slick and Marty Balin\, and recorded a string of hits including “Jane”\, “No Way Out”\, “Find Your Way Back”\, “Stranger”\, and “Layin’ It on the Line”. \nThe group was renamed STARSHIP in 1985 and went on to record three #1 hit songs including “We Built This City”\, “Sara”\, and “Nothing’s Gonna Stop Us Now”\, from the film\, Mannequin\, which also was an Academy Award nominee. Their hit “It’s Not Over ‘Til It’s Over” became Major League Baseball’s theme in 1987. Mickey’s stellar voice and video charisma on STARSHIP’s video classics such as “We Built This City” and “Sara” became staples on MTV and VH1. \nOne can expect to hear hits from STARSHIP and Jefferson Starship at STARSHIP’s live performances\, as well as a few selections from Jefferson Airplane as a nod to both band’s beginnings \nTickets on sale Monday\, March 30 at 9am\nStar $52\nSelect $26
URL:https://www.starcasino.com/event/starship/
CATEGORIES:Entertainment
ATTACH;FMTTYPE=image/png:https://www.starcasino.com/wp-content/uploads/2024/05/StarShipJune2026_webgraphic.png
END:VEVENT
BEGIN:VEVENT
DTSTART;TZID=America/Chicago:20260710T200000
DTEND;TZID=America/Chicago:20260710T213000
DTSTAMP:20260425T113934
CREATED:20260331T153730Z
LAST-MODIFIED:20260331T153730Z
UID:10181844-1783713600-1783719000@www.starcasino.com
SUMMARY:Jackson Dean
DESCRIPTION:With his strong gravel-toned vocals\, wayward spirit\, intentional songwriting and overall mystique\, the fast-rising singer/songwriter Jackson Dean has earned a reputation for his impressive live show and thought-provoking\, lyric-driven music. The young talent burst on the scene in 2022 with his atmospheric\, musically-forward debut album Greenbroke that featured his PLATINUM debut single\, “Don’t Come Lookin’\,” which cemented Jackson as the youngest solo male Country artist to reach the top of the charts with a debut\, and his GOLD certified follow up single “Fearless (The Echo).” His live show stand out and No. 1 single “Heavens To Betsy” marked the lead track from his “..near-perfect follow-up” (American Songwriter) sophomore album On The Back Of My Dreams\, released in 2024 via Big Machine Records. The textured\, experiential body of work is built on transcendental\, swelling songs and Dean’s bone-shaking vocal performance\, delivered with striking swagger. The demand for Jackson skyrocketed after landing a coveted spot on artist to watch lists by Pandora\, Spotify\, Apple Music\, Amazon\, and CMT\, as well as an ACM New Male Artist of the Year nomination in 2023. A vocalist who thrives on stage (as evident in his Live At The Ryman album)\, the Maryland native has leaned hard into touring\, building a passionate fanbase that connects on a deeper level –  both on his headlining runs and as support for superstars including Toby Keith\, Blake Shelton\, Miranda Lambert\, Lainey Wilson\, Eric Church\, Luke Bryan\, Brantley Gilbert\, Kane Brown\, Brooks & Dunn\, Lee Brice\, HARDY and Brothers Osborne. Ever evolving and expanding into new territory both sonically and lyrically\, Dean released new tracks “Be Your Man” and “Make A Liar” in 2025\, and his track “Turn On The Lights” was used for T-Mobile’s Friday Night 5G Lights 2025 competition. He just wrapped a highly successful run of his headlining On The Back Of My Dreams World Tour in Australia and New Zealand and closed out 2025 opening on select dates of Brad Paisley’s Truck Still Works Tour. \nTickets on sale Monday\, April 13 at 9am.\nStar $60\nSelect $30 \n 
URL:https://www.starcasino.com/event/jackson-dean/
CATEGORIES:Entertainment
ATTACH;FMTTYPE=image/png:https://www.starcasino.com/wp-content/uploads/2026/03/JacksonDeanJuly2026_webgraphic.png
END:VEVENT
BEGIN:VEVENT
DTSTART;TZID=America/Chicago:20260724T200000
DTEND;TZID=America/Chicago:20260724T213000
DTSTAMP:20260425T113934
CREATED:20231003T170130Z
LAST-MODIFIED:20260415T111229Z
UID:10013305-1784923200-1784928600@www.starcasino.com
SUMMARY:Night Ranger
DESCRIPTION:Night Ranger has earned widespread recognition that includes both multi-platinum and gold album status all while leaving their indelible mark on the music industry with a long list of best-selling albums (Dawn Patrol\, Midnight Madness\, 7 Wishes\, Big Life and Man In Motion). Their popularity is fueled by an impressive number of instantly recognizable hit singles and signature album tracks\, including legendary titles such as “Sister Christian”\, “Don’t Tell Me You Love Me”\, “When You Close Your Eyes”\, the anthemic “(You Can Still) Rock In America”\, along with “Sentimental Street”\, “Goodbye”\, “Sing Me Away” and “Four in the Morning”. \nHaving sold over 17 Million albums worldwide\, performed across more than 4000 stages\, and captivated a radio audience that exceeds 1 Billion\, Night Ranger has both epitomized and transcended the arena rock sound and style well beyond that era. The band continue to grow their ever-evolving fan-base and they are proof that powerful songs alongside\, incredibly talented musicians is the perfect formula for continued success.\n\nNight Ranger is Jack Blades (bass\, vocals)\, Kelly Keagy (drums\, vocals)\, Brad Gillis (lead & rhythm guitars)\, Eric Levy (keyboards) and Keri Kelli (lead & rhythm guitars).\n\nTickets on sale Monday\, April 27 at 9AM.\nStar $60\nSelect $30
URL:https://www.starcasino.com/event/night-ranger/
CATEGORIES:Entertainment
ATTACH;FMTTYPE=image/png:https://www.starcasino.com/wp-content/uploads/2023/10/NightRangerJuly2026_webgraphic.png
END:VEVENT
END:VCALENDAR