BEGIN:VCALENDAR
VERSION:2.0
PRODID:-//Shooting Star Casino | Minnesota Casino, Hotel and Event Center in Mahnomen, Minnesota - ECPv6.15.12.2//NONSGML v1.0//EN
CALSCALE:GREGORIAN
METHOD:PUBLISH
X-WR-CALNAME:Shooting Star Casino | Minnesota Casino, Hotel and Event Center in Mahnomen, Minnesota
X-ORIGINAL-URL:https://www.starcasino.com
X-WR-CALDESC:Events for Shooting Star Casino | Minnesota Casino, Hotel and Event Center in Mahnomen, Minnesota
REFRESH-INTERVAL;VALUE=DURATION:PT1H
X-Robots-Tag:noindex
X-PUBLISHED-TTL:PT1H
BEGIN:VTIMEZONE
TZID:America/Chicago
BEGIN:DAYLIGHT
TZOFFSETFROM:-0600
TZOFFSETTO:-0500
TZNAME:CDT
DTSTART:20250309T080000
END:DAYLIGHT
BEGIN:STANDARD
TZOFFSETFROM:-0500
TZOFFSETTO:-0600
TZNAME:CST
DTSTART:20251102T070000
END:STANDARD
BEGIN:DAYLIGHT
TZOFFSETFROM:-0600
TZOFFSETTO:-0500
TZNAME:CDT
DTSTART:20260308T080000
END:DAYLIGHT
BEGIN:STANDARD
TZOFFSETFROM:-0500
TZOFFSETTO:-0600
TZNAME:CST
DTSTART:20261101T070000
END:STANDARD
BEGIN:DAYLIGHT
TZOFFSETFROM:-0600
TZOFFSETTO:-0500
TZNAME:CDT
DTSTART:20270314T080000
END:DAYLIGHT
BEGIN:STANDARD
TZOFFSETFROM:-0500
TZOFFSETTO:-0600
TZNAME:CST
DTSTART:20271107T070000
END:STANDARD
END:VTIMEZONE
BEGIN:VTIMEZONE
TZID:UTC
BEGIN:STANDARD
TZOFFSETFROM:+0000
TZOFFSETTO:+0000
TZNAME:UTC
DTSTART:20250101T000000
END:STANDARD
END:VTIMEZONE
BEGIN:VEVENT
DTSTART;TZID=America/Chicago:20260712T130000
DTEND;TZID=America/Chicago:20260712T140000
DTSTAMP:20260425T162759
CREATED:20260310T183334Z
LAST-MODIFIED:20260310T183334Z
UID:10179647-1783861200-1783864800@www.starcasino.com
SUMMARY:We Fest Karaoke Contest
DESCRIPTION:Mustang Lounge | Mahnomen \nApril 8\, 22 & 29 & May 13 | 7PM \nFinals: May 27 | 7PM \nShowdown: July 12 | 1PM \nThe WE Fest Karaoke Contest is back and it’s your chance to win two general admission tickets to WE Fest\,\nPLUS\, sing the national anthem on the main stage on August 7! \nCompete at the Mustang Lounge on the dates above with the hopes of making it to the Showdown on July 12 at 1PM. \nRegular Karaoke to follow
URL:https://www.starcasino.com/event/we-fest-karaoke-contest/2026-07-12/
CATEGORIES:Mustang Lounge
ATTACH;FMTTYPE=image/png:https://www.starcasino.com/wp-content/uploads/2026/03/WeFestKaraokeShowdown2026_webgraphic.png
END:VEVENT
BEGIN:VEVENT
DTSTART;TZID=UTC:20260713T180000
DTEND;TZID=UTC:20260713T190000
DTSTAMP:20260425T162759
CREATED:20251001T161009Z
LAST-MODIFIED:20260422T181028Z
UID:10019247-1783965600-1783969200@www.starcasino.com
SUMMARY:Teleconference Bingo Fun!
DESCRIPTION:Teleconference Bingo will be played every Friday and Monday at 6pm.\nFriday\, April 24 | 52#s for 10-$1\,000 Winners\nAll games pay $500\nConsolation on Coverall $500\nMinimum payout of $100 per game.\n(Cost of Green Cards – $5) \nMonday\, April 27 | 52#s for 1 – $1\,199 Winner\nAll games pay $200\nConsolation on Coverall $200\nMinimum payout of $50 per game.\n(Cost of Purple Cards – $3) \nTeleconference is played at:\n\nLITTLE DIPPER BAR & GRILL AT SHOOTING STAR – BAGLEY!\nMUSTANG LOUNGE\nIce Cracking\nBerry’s Bar\nBones 113 (Mondays Only)\nCallaway\nLean To Tavern\nMahnomen Liquor Store – Wild Rice Lounge\nPinehurst\nOgema Liquor Store (Fridays Only)\nRuffed Grouse Roadhouse\nPeachy’s Pub\nSundown Bar (Fridays Only)\nCedar Crest (Memorial Day-Labor Day – Mondays Only)\nMahnomen Country Club (Memorial Day-Labor Day – Fridays Only)\n\n*Locations subject to change. \n  \nClick Here for Rules
URL:https://www.starcasino.com/event/teleconference-bingo-2-2/2026-07-13/
CATEGORIES:Bingo
ATTACH;FMTTYPE=image/jpeg:https://www.starcasino.com/wp-content/uploads/2022/09/TeleConf_MonFri_Sept2022_WebGraphic.jpg
END:VEVENT
BEGIN:VEVENT
DTSTART;TZID=America/Chicago:20260714T070000
DTEND;TZID=America/Chicago:20260714T190000
DTSTAMP:20260425T162759
CREATED:20241023T171152Z
LAST-MODIFIED:20241203T204226Z
UID:10096742-1784012400-1784055600@www.starcasino.com
SUMMARY:50+ Spectacular Senior Stars
DESCRIPTION:Extended Hours & Amazing Prizes\nTuesdays | Mahnomen: 7AM-7PM | Bagley: 11AM-7PM\nEarn 15 points and swipe at the kiosk to participate in the Spin the Wheel Kiosk Game and you could win Star Cash\, a dining offer or up to $100 cash. \nClick here for rules.
URL:https://www.starcasino.com/event/50-spectacular-senior-stars-2/2026-07-14/
CATEGORIES:Bagley Promotions,Mahnomen Promotions
ATTACH;FMTTYPE=image/png:https://www.starcasino.com/wp-content/uploads/2024/08/Spectacular-Senior-Stars2024_webevent.png
END:VEVENT
BEGIN:VEVENT
DTSTART;VALUE=DATE:20260715
DTEND;VALUE=DATE:20260716
DTSTAMP:20260425T162759
CREATED:20250731T145446Z
LAST-MODIFIED:20251222T150302Z
UID:10155023-1784073600-1784159999@www.starcasino.com
SUMMARY:Wednesday Thrills
DESCRIPTION:EVERY WEDNESDAY | 12AM-11:59PM \nPlay using your Star Rewards card and you could receive Star Cash!\nEarn 25 points = $5 Star Cash\nEarn 50 points = $5 Star Cash\nEarn 75 Points = $5 Star Cash\nEarn 125 Points = $10 Star Cash \nClick here for official rules.
URL:https://www.starcasino.com/event/wednesday-thrills/2026-07-15/
CATEGORIES:Bagley Promotions,Mahnomen Promotions
ATTACH;FMTTYPE=image/jpeg:https://www.starcasino.com/wp-content/uploads/2020/09/WednesdayThrills_Oct2020_WebGraphic.jpg
END:VEVENT
BEGIN:VEVENT
DTSTART;TZID=America/Chicago:20260715T180000
DTEND;TZID=America/Chicago:20260715T200000
DTSTAMP:20260425T162759
CREATED:20241023T165814Z
LAST-MODIFIED:20241023T170753Z
UID:10096478-1784138400-1784145600@www.starcasino.com
SUMMARY:Meat Raffle
DESCRIPTION:Swipe your Star Rewards card Wednesdays\, between 5PM-7:59PM\, to receive a FREE entry slip. Place slip in the drawing barrel at Star Rewards. Drawings will be held each hour. \n8PM | $75 Meat Bundle\n7PM | $50 Meat Bundle\n6PM | $25 Meat Bundle \nClick here for rules brochure.
URL:https://www.starcasino.com/event/meat-raffle-2/2026-07-15/
CATEGORIES:Bagley Promotions
ATTACH;FMTTYPE=image/png:https://www.starcasino.com/wp-content/uploads/2023/10/MeatRaffleNov2023_WebEvent.png
END:VEVENT
BEGIN:VEVENT
DTSTART;TZID=America/Chicago:20260717T190000
DTEND;TZID=America/Chicago:20260717T230000
DTSTAMP:20260425T162759
CREATED:20231025T144444Z
LAST-MODIFIED:20241014T124703Z
UID:10090762-1784314800-1784329200@www.starcasino.com
SUMMARY:Hot Seats
DESCRIPTION:Bagley | Fridays & Saturdays | 7pm-11pm\nWin up to $150 cash!\nPlay using your Star Rewards card and you could win up to $150 cash. One winners will be selected each hour. \n  \nClick Here for Rules
URL:https://www.starcasino.com/event/125-hot-seat-drawings-2/2026-07-17/
CATEGORIES:Bagley Promotions
ATTACH;FMTTYPE=image/jpeg:https://www.starcasino.com/wp-content/uploads/2023/10/150HotSeats_Oct2024_webevent.jpg
END:VEVENT
BEGIN:VEVENT
DTSTART;TZID=America/Chicago:20260724T200000
DTEND;TZID=America/Chicago:20260724T213000
DTSTAMP:20260425T162759
CREATED:20231003T170130Z
LAST-MODIFIED:20260415T111229Z
UID:10013305-1784923200-1784928600@www.starcasino.com
SUMMARY:Night Ranger
DESCRIPTION:Night Ranger has earned widespread recognition that includes both multi-platinum and gold album status all while leaving their indelible mark on the music industry with a long list of best-selling albums (Dawn Patrol\, Midnight Madness\, 7 Wishes\, Big Life and Man In Motion). Their popularity is fueled by an impressive number of instantly recognizable hit singles and signature album tracks\, including legendary titles such as “Sister Christian”\, “Don’t Tell Me You Love Me”\, “When You Close Your Eyes”\, the anthemic “(You Can Still) Rock In America”\, along with “Sentimental Street”\, “Goodbye”\, “Sing Me Away” and “Four in the Morning”. \nHaving sold over 17 Million albums worldwide\, performed across more than 4000 stages\, and captivated a radio audience that exceeds 1 Billion\, Night Ranger has both epitomized and transcended the arena rock sound and style well beyond that era. The band continue to grow their ever-evolving fan-base and they are proof that powerful songs alongside\, incredibly talented musicians is the perfect formula for continued success.\n\nNight Ranger is Jack Blades (bass\, vocals)\, Kelly Keagy (drums\, vocals)\, Brad Gillis (lead & rhythm guitars)\, Eric Levy (keyboards) and Keri Kelli (lead & rhythm guitars).\n\nTickets on sale Monday\, April 27 at 9AM.\nStar $60\nSelect $30
URL:https://www.starcasino.com/event/night-ranger/
CATEGORIES:Entertainment
ATTACH;FMTTYPE=image/png:https://www.starcasino.com/wp-content/uploads/2023/10/NightRangerJuly2026_webgraphic.png
END:VEVENT
BEGIN:VEVENT
DTSTART;VALUE=DATE:20260801
DTEND;VALUE=DATE:20260802
DTSTAMP:20260425T162759
CREATED:20251229T201159Z
LAST-MODIFIED:20251229T201159Z
UID:10172151-1785542400-1785628799@www.starcasino.com
SUMMARY:Birthday Win's & Wishes
DESCRIPTION:Celebrate your birthday at Shooting Star Mahnomen and Bagley! \nJoin us during your birthday month and you could win between\n$5 and $100 Star Cash! To receive your birthday wish\, swipe your Star Rewards card at a kiosk to see what you win. \nClick here for rules.
URL:https://www.starcasino.com/event/birthday-wins-wishes/2026-08-01/
CATEGORIES:Bagley Promotions,Mahnomen Promotions
ATTACH;FMTTYPE=image/png:https://www.starcasino.com/wp-content/uploads/2025/12/BirthdayWishes2024_webgraphic.png
END:VEVENT
END:VCALENDAR