BEGIN:VCALENDAR
VERSION:2.0
PRODID:-//Shooting Star Casino | Minnesota Casino, Hotel and Event Center in Mahnomen, Minnesota - ECPv6.15.12.2//NONSGML v1.0//EN
CALSCALE:GREGORIAN
METHOD:PUBLISH
X-WR-CALNAME:Shooting Star Casino | Minnesota Casino, Hotel and Event Center in Mahnomen, Minnesota
X-ORIGINAL-URL:https://www.starcasino.com
X-WR-CALDESC:Events for Shooting Star Casino | Minnesota Casino, Hotel and Event Center in Mahnomen, Minnesota
REFRESH-INTERVAL;VALUE=DURATION:PT1H
X-Robots-Tag:noindex
X-PUBLISHED-TTL:PT1H
BEGIN:VTIMEZONE
TZID:America/Chicago
BEGIN:DAYLIGHT
TZOFFSETFROM:-0600
TZOFFSETTO:-0500
TZNAME:CDT
DTSTART:20250309T080000
END:DAYLIGHT
BEGIN:STANDARD
TZOFFSETFROM:-0500
TZOFFSETTO:-0600
TZNAME:CST
DTSTART:20251102T070000
END:STANDARD
BEGIN:DAYLIGHT
TZOFFSETFROM:-0600
TZOFFSETTO:-0500
TZNAME:CDT
DTSTART:20260308T080000
END:DAYLIGHT
BEGIN:STANDARD
TZOFFSETFROM:-0500
TZOFFSETTO:-0600
TZNAME:CST
DTSTART:20261101T070000
END:STANDARD
BEGIN:DAYLIGHT
TZOFFSETFROM:-0600
TZOFFSETTO:-0500
TZNAME:CDT
DTSTART:20270314T080000
END:DAYLIGHT
BEGIN:STANDARD
TZOFFSETFROM:-0500
TZOFFSETTO:-0600
TZNAME:CST
DTSTART:20271107T070000
END:STANDARD
END:VTIMEZONE
BEGIN:VEVENT
DTSTART;TZID=America/Chicago:20260531T140000
DTEND;TZID=America/Chicago:20260531T200000
DTSTAMP:20260425T111712
CREATED:20260423T141455Z
LAST-MODIFIED:20260423T141455Z
UID:10184281-1780236000-1780257600@www.starcasino.com
SUMMARY:Hot Seats Summer Kickoff
DESCRIPTION:Chance to win $2\,500\nSunday\, May 31 | 2PM-8PM\nMahnomen & Bagley\nFire up at the Summer Kickoff Hot Seats where you could win your share of $20\,000! Every half hour from 2PM-8PM\, one guest will win between $1\,000 up to $2\,500 in the grand finale. Have your Star Rewards card inserted and actively playing slots at drawing time to qualify. \nClick here for rules
URL:https://www.starcasino.com/event/hot-seats-summer-kickoff/
CATEGORIES:Bagley Promotions,Mahnomen Promotions
ATTACH;FMTTYPE=image/png:https://www.starcasino.com/wp-content/uploads/2026/04/HotSeats_SummerKickoff_2026_Website.png
END:VEVENT
BEGIN:VEVENT
DTSTART;TZID=America/Chicago:20260605T200000
DTEND;TZID=America/Chicago:20260605T210000
DTSTAMP:20260425T111712
CREATED:20260224T145357Z
LAST-MODIFIED:20260224T145357Z
UID:10177925-1780689600-1780693200@www.starcasino.com
SUMMARY:Terri Clark
DESCRIPTION:From paying her dues at Tootsie’s Orchid Lounge in Nashville to holding the honor of being the only Canadian female member of the Grand Ole Opry\, Terri Clark continues to build an unforgettable legacy primed for the history books of Country music. \nThe multi-JUNO Award winner boasts over five million albums sold\, three RIAA Platinum and two RIAA Gold-certified albums\, Canadian Gold\, Platinum\, Double Platinum and Triple Platinum-certified albums\, 13 Top 10 singles including six No.1s in Canada and the U.S.\, 19 CCMA Awards and multiple ACM and CMA Female Vocalist of the Year award nominations. Top hits include\, “Girls Lie Too\,” “Better Things To Do”  &  “Poor Poor Pitiful Me”. \nTerri Clark: Take Two is the next chapter in Clark’s long history of successes and accolades. Released Friday\, May 31\, 2024 the eight song album from the legendary singer\, songwriter and guitar-slinger pairs her with some of the biggest stars in music today—including Kelly Clarkson\, Carly Pearce\, Ashley McBryde\, Lainey Wilson\, Ben Rector and Cody Johnson—for a duets project reimagining her iconic\, chart-topping hits.\nTickets on Sale Monday\, March 9 at 9AM.\nStar $60\nSelect $30
URL:https://www.starcasino.com/event/terri-clark-2/
CATEGORIES:Entertainment
ATTACH;FMTTYPE=image/png:https://www.starcasino.com/wp-content/uploads/2026/02/TerriClarkJune2026_webgraphic.png
END:VEVENT
BEGIN:VEVENT
DTSTART;TZID=America/Chicago:20260626T200000
DTEND;TZID=America/Chicago:20260626T213000
DTSTAMP:20260425T111712
CREATED:20240514T143313Z
LAST-MODIFIED:20260317T144653Z
UID:10053787-1782504000-1782509400@www.starcasino.com
SUMMARY:Starship
DESCRIPTION:Mickey Thomas is the owner of the soaring voice that propelled STARSHIP through the decade of the 80’s. With his soulful and compelling vocals\, Mickey has established himself as one of Rock Music’s most recognizable stars. \nMickey made his mark in 1976 as lead vocalist on the mega-hit “Fooled Around And Fell In Love” with The Elvin Bishop Band. In 1979\, Mickey joined Jefferson Starship as the lead vocalist\, after the departure of Grace Slick and Marty Balin\, and recorded a string of hits including “Jane”\, “No Way Out”\, “Find Your Way Back”\, “Stranger”\, and “Layin’ It on the Line”. \nThe group was renamed STARSHIP in 1985 and went on to record three #1 hit songs including “We Built This City”\, “Sara”\, and “Nothing’s Gonna Stop Us Now”\, from the film\, Mannequin\, which also was an Academy Award nominee. Their hit “It’s Not Over ‘Til It’s Over” became Major League Baseball’s theme in 1987. Mickey’s stellar voice and video charisma on STARSHIP’s video classics such as “We Built This City” and “Sara” became staples on MTV and VH1. \nOne can expect to hear hits from STARSHIP and Jefferson Starship at STARSHIP’s live performances\, as well as a few selections from Jefferson Airplane as a nod to both band’s beginnings \nTickets on sale Monday\, March 30 at 9am\nStar $52\nSelect $26
URL:https://www.starcasino.com/event/starship/
CATEGORIES:Entertainment
ATTACH;FMTTYPE=image/png:https://www.starcasino.com/wp-content/uploads/2024/05/StarShipJune2026_webgraphic.png
END:VEVENT
BEGIN:VEVENT
DTSTART;TZID=America/Chicago:20260710T200000
DTEND;TZID=America/Chicago:20260710T213000
DTSTAMP:20260425T111712
CREATED:20260331T153730Z
LAST-MODIFIED:20260331T153730Z
UID:10181844-1783713600-1783719000@www.starcasino.com
SUMMARY:Jackson Dean
DESCRIPTION:With his strong gravel-toned vocals\, wayward spirit\, intentional songwriting and overall mystique\, the fast-rising singer/songwriter Jackson Dean has earned a reputation for his impressive live show and thought-provoking\, lyric-driven music. The young talent burst on the scene in 2022 with his atmospheric\, musically-forward debut album Greenbroke that featured his PLATINUM debut single\, “Don’t Come Lookin’\,” which cemented Jackson as the youngest solo male Country artist to reach the top of the charts with a debut\, and his GOLD certified follow up single “Fearless (The Echo).” His live show stand out and No. 1 single “Heavens To Betsy” marked the lead track from his “..near-perfect follow-up” (American Songwriter) sophomore album On The Back Of My Dreams\, released in 2024 via Big Machine Records. The textured\, experiential body of work is built on transcendental\, swelling songs and Dean’s bone-shaking vocal performance\, delivered with striking swagger. The demand for Jackson skyrocketed after landing a coveted spot on artist to watch lists by Pandora\, Spotify\, Apple Music\, Amazon\, and CMT\, as well as an ACM New Male Artist of the Year nomination in 2023. A vocalist who thrives on stage (as evident in his Live At The Ryman album)\, the Maryland native has leaned hard into touring\, building a passionate fanbase that connects on a deeper level –  both on his headlining runs and as support for superstars including Toby Keith\, Blake Shelton\, Miranda Lambert\, Lainey Wilson\, Eric Church\, Luke Bryan\, Brantley Gilbert\, Kane Brown\, Brooks & Dunn\, Lee Brice\, HARDY and Brothers Osborne. Ever evolving and expanding into new territory both sonically and lyrically\, Dean released new tracks “Be Your Man” and “Make A Liar” in 2025\, and his track “Turn On The Lights” was used for T-Mobile’s Friday Night 5G Lights 2025 competition. He just wrapped a highly successful run of his headlining On The Back Of My Dreams World Tour in Australia and New Zealand and closed out 2025 opening on select dates of Brad Paisley’s Truck Still Works Tour. \nTickets on sale Monday\, April 13 at 9am.\nStar $60\nSelect $30 \n 
URL:https://www.starcasino.com/event/jackson-dean/
CATEGORIES:Entertainment
ATTACH;FMTTYPE=image/png:https://www.starcasino.com/wp-content/uploads/2026/03/JacksonDeanJuly2026_webgraphic.png
END:VEVENT
BEGIN:VEVENT
DTSTART;TZID=America/Chicago:20260724T200000
DTEND;TZID=America/Chicago:20260724T213000
DTSTAMP:20260425T111712
CREATED:20231003T170130Z
LAST-MODIFIED:20260415T111229Z
UID:10013305-1784923200-1784928600@www.starcasino.com
SUMMARY:Night Ranger
DESCRIPTION:Night Ranger has earned widespread recognition that includes both multi-platinum and gold album status all while leaving their indelible mark on the music industry with a long list of best-selling albums (Dawn Patrol\, Midnight Madness\, 7 Wishes\, Big Life and Man In Motion). Their popularity is fueled by an impressive number of instantly recognizable hit singles and signature album tracks\, including legendary titles such as “Sister Christian”\, “Don’t Tell Me You Love Me”\, “When You Close Your Eyes”\, the anthemic “(You Can Still) Rock In America”\, along with “Sentimental Street”\, “Goodbye”\, “Sing Me Away” and “Four in the Morning”. \nHaving sold over 17 Million albums worldwide\, performed across more than 4000 stages\, and captivated a radio audience that exceeds 1 Billion\, Night Ranger has both epitomized and transcended the arena rock sound and style well beyond that era. The band continue to grow their ever-evolving fan-base and they are proof that powerful songs alongside\, incredibly talented musicians is the perfect formula for continued success.\n\nNight Ranger is Jack Blades (bass\, vocals)\, Kelly Keagy (drums\, vocals)\, Brad Gillis (lead & rhythm guitars)\, Eric Levy (keyboards) and Keri Kelli (lead & rhythm guitars).\n\nTickets on sale Monday\, April 27 at 9AM.\nStar $60\nSelect $30
URL:https://www.starcasino.com/event/night-ranger/
CATEGORIES:Entertainment
ATTACH;FMTTYPE=image/png:https://www.starcasino.com/wp-content/uploads/2023/10/NightRangerJuly2026_webgraphic.png
END:VEVENT
END:VCALENDAR