BEGIN:VCALENDAR
VERSION:2.0
PRODID:-//Shooting Star Casino | Minnesota Casino, Hotel and Event Center in Mahnomen, Minnesota - ECPv6.15.12.2//NONSGML v1.0//EN
CALSCALE:GREGORIAN
METHOD:PUBLISH
X-WR-CALNAME:Shooting Star Casino | Minnesota Casino, Hotel and Event Center in Mahnomen, Minnesota
X-ORIGINAL-URL:https://www.starcasino.com
X-WR-CALDESC:Events for Shooting Star Casino | Minnesota Casino, Hotel and Event Center in Mahnomen, Minnesota
REFRESH-INTERVAL;VALUE=DURATION:PT1H
X-Robots-Tag:noindex
X-PUBLISHED-TTL:PT1H
BEGIN:VTIMEZONE
TZID:America/Chicago
BEGIN:DAYLIGHT
TZOFFSETFROM:-0600
TZOFFSETTO:-0500
TZNAME:CDT
DTSTART:20240310T080000
END:DAYLIGHT
BEGIN:STANDARD
TZOFFSETFROM:-0500
TZOFFSETTO:-0600
TZNAME:CST
DTSTART:20241103T070000
END:STANDARD
BEGIN:DAYLIGHT
TZOFFSETFROM:-0600
TZOFFSETTO:-0500
TZNAME:CDT
DTSTART:20250309T080000
END:DAYLIGHT
BEGIN:STANDARD
TZOFFSETFROM:-0500
TZOFFSETTO:-0600
TZNAME:CST
DTSTART:20251102T070000
END:STANDARD
BEGIN:DAYLIGHT
TZOFFSETFROM:-0600
TZOFFSETTO:-0500
TZNAME:CDT
DTSTART:20260308T080000
END:DAYLIGHT
BEGIN:STANDARD
TZOFFSETFROM:-0500
TZOFFSETTO:-0600
TZNAME:CST
DTSTART:20261101T070000
END:STANDARD
END:VTIMEZONE
BEGIN:VEVENT
DTSTART;TZID=America/Chicago:20250728T080000
DTEND;TZID=America/Chicago:20250831T170000
DTSTAMP:20260425T194523
CREATED:20250721T150743Z
LAST-MODIFIED:20250721T165346Z
UID:10153955-1753689600-1756659600@www.starcasino.com
SUMMARY:North Star Adventure Giveaway
DESCRIPTION:Sundays in August\nMahnomen & Bagley \nFollow the North Star to big wins this August! From July 28 through August 31\, earn entries for your chance to win cash every Sunday\, plus a chance at our grand prize vehicle on August 31. \nReceive one entry for every 25 slot/tier points. \nCash Drawings | Win up to $2\,500 Sundays in August | 3PM-7PM\nGRAND PRIZE DRAWING | NEW SUV Sunday\, August 31 | 8PM\n*See rules brochure for complete details.
URL:https://www.starcasino.com/event/north-star-adventure-giveaway/
CATEGORIES:Bagley Promotions,Mahnomen Promotions
ATTACH;FMTTYPE=image/png:https://www.starcasino.com/wp-content/uploads/2025/07/NorthStarAdventureGiveaway_Aug2025_web.png
END:VEVENT
BEGIN:VEVENT
DTSTART;TZID=America/Chicago:20250801T190000
DTEND;TZID=America/Chicago:20250801T230000
DTSTAMP:20260425T194523
CREATED:20231025T144444Z
LAST-MODIFIED:20241014T124703Z
UID:10090712-1754074800-1754089200@www.starcasino.com
SUMMARY:Hot Seats
DESCRIPTION:Bagley | Fridays & Saturdays | 7pm-11pm\nWin up to $150 cash!\nPlay using your Star Rewards card and you could win up to $150 cash. One winners will be selected each hour. \n  \nClick Here for Rules
URL:https://www.starcasino.com/event/125-hot-seat-drawings-2/2025-08-01/
CATEGORIES:Bagley Promotions
ATTACH;FMTTYPE=image/jpeg:https://www.starcasino.com/wp-content/uploads/2023/10/150HotSeats_Oct2024_webevent.jpg
END:VEVENT
BEGIN:VEVENT
DTSTART;TZID=America/Chicago:20250801T200000
DTEND;TZID=America/Chicago:20250801T213000
DTSTAMP:20260425T194523
CREATED:20250422T144036Z
LAST-MODIFIED:20250505T174611Z
UID:10143913-1754078400-1754083800@www.starcasino.com
SUMMARY:Jackyl
DESCRIPTION:Jesse James Dupree – Vocals & Guitar | Jeff Worley – Guitar\nChris Worley – Percussion | Roman Glick – Bass \nOn August 11\, 1992\, Jackyl released their debut album on Geffen Records. It was the middle of Grunge\, but Jackyl’s loud\, proud and unapologetic rock songs\, produced by Brendan O’Brien (Stone Temple Pilots\, AC/DC)\, earned the LP double-platinum status.  “I Stand Alone\,” “Down On Me\,” “Dirty Little Mind\,” “When Will It Rain” and “Back Off Brother” earned rave reviews and rabid fans for the band’s no-holds-barred energy and lyrics.   \nOn August 11\, 2022—30 years to the day of Jackyl’s debut—the lineup plays Sturgis\, South Dakota’s Full Throttle Saloon\, in a raucous celebration of the lineup’s 30th anniversary that also marks the debut of the quartet’s brand-new album\, Jackyl 30 Coming In Hot and first single\, “Get All Up In It.” \n“Jeff\, Chris and Roman coming down on the ‘one’ together is still a force of nature\,” says Dupree. “Thirty years together and I feel we’ve found an honest place about our new music\, our fans and us as a band\, on and offstage.” \nJackyl 30 Coming In Hot\, which also includes the new tunes “Bad Decision” and “Another Round (Coming in Hot)” is only the latest highpoint of the Southern-bred band’s career. From the get-go\, Jackyl were unafraid to stand up for free speech; their “I Stand Alone” video featured the band performing in front of a K-Mart as a protest for the store refusing to sell their album.  Other bold moves? Dupree entered a Longhorn Steakhouse with a chainsaw to “surprise” a group of influential radio programmers. That generated a class-action lawsuit that reportedly cost the band more than $1 million. \nBut the ever-growing legion of fans loved Jackyl’s songs and antics\, helping 1994’s Push Comes to Shove album go platinum\, thanks in part to the singles “Push Comes to Shove” and “Headed for Destruction.” 1993 saw “Mental *@%.!” featured on The Beavis & Butt-head Experience\, a compilation album of songs tied in with MTV’s hit cartoon series; it was eventually certified triple platinum. \nHitting the road non-stop\, Jackyl’s tour mates in those early days included Aerosmith\, KISS\, ZZ Top\, Ted Nugent and Damn Yankees. One of the biggest audiences? Jackyl’s performance at Woodstock 94. The double-album Woodstock 94 went platinum and included “Headed For Destruction” \nAnother groundbreaking musical moment came in 1996. Jackyl followed A&R legend John Kalodner (who had signed them to Geffen) to Sony Music’s Epic Records. The resultant record\, 1997’s Cut the Crap was produced by Mike Fraser (AC/DC\, Metallica) and mixed by Kevin Shirley (silverchair\, Aerosmith). The rock radio hit “Locked and Loaded” included guest vocals by AC/DC’s Brian Johnson. It was the first time Johnson had recorded with any artist but AC/DC since joining the band 17 years earlier. \nIn 1998 Jackyl set not one but two Guinness World Records by playing 100 shows in 50 days…. and 21 shows in 24 hours. The daytime sets were 45 minutes long; the evening gigs were between 90 and 120 minutes of rock mayhem. \nThe band’s 2002 Relentless LP contained the second collaboration with Brian Johnson\, the raucous rocker “Kill the Sunshine.” The following year\, Universal Music/Geffen Records issued a Jackyl volume as part of its acclaimed “20th Century Masters – The Millennium Collection” best-of series. In 2004\, the long-awaited Live at the Full Throttle Saloon CD and DVD was released by Sanctuary Records. It was recorded and filmed in the summer of 2003 in Sturgis\, South Dakota\, as part of the legendary annual biker rally. \nIn 2010 the band released When Moonshine and Dynamite Collide\, which featured DMC from Run-D.M.C. \nIt’s been three decades since Jackyl shot out of Georgia spewing equal parts hard rock\, heavy metal and Southern rock. They’ve never stopped touring or recording\, and with 9.2 million views (and growing) of  “Lumberjack Song” on YouTube\, the quartet are earning rabid new fans daily.\, “Thirty years on and we’re still celebrating the fundamentals of rock ‘n’ roll\, so Get All Up In It!” \nTickets on sale Monday\, May 5\nStar $45\nSelect $23
URL:https://www.starcasino.com/event/jackyl/
CATEGORIES:Entertainment
ATTACH;FMTTYPE=image/png:https://www.starcasino.com/wp-content/uploads/2025/04/JackylAugust_2025_webgraphic.png
END:VEVENT
BEGIN:VEVENT
DTSTART;TZID=America/Chicago:20250805T070000
DTEND;TZID=America/Chicago:20250805T190000
DTSTAMP:20260425T194523
CREATED:20241023T171152Z
LAST-MODIFIED:20241203T204226Z
UID:10096693-1754377200-1754420400@www.starcasino.com
SUMMARY:50+ Spectacular Senior Stars
DESCRIPTION:Extended Hours & Amazing Prizes\nTuesdays | Mahnomen: 7AM-7PM | Bagley: 11AM-7PM\nEarn 15 points and swipe at the kiosk to participate in the Spin the Wheel Kiosk Game and you could win Star Cash\, a dining offer or up to $100 cash. \nClick here for rules.
URL:https://www.starcasino.com/event/50-spectacular-senior-stars-2/2025-08-05/
CATEGORIES:Bagley Promotions,Mahnomen Promotions
ATTACH;FMTTYPE=image/png:https://www.starcasino.com/wp-content/uploads/2024/08/Spectacular-Senior-Stars2024_webevent.png
END:VEVENT
BEGIN:VEVENT
DTSTART;VALUE=DATE:20250806
DTEND;VALUE=DATE:20250807
DTSTAMP:20260425T194523
CREATED:20250731T145446Z
LAST-MODIFIED:20251222T150302Z
UID:10154974-1754438400-1754524799@www.starcasino.com
SUMMARY:Wednesday Thrills
DESCRIPTION:EVERY WEDNESDAY | 12AM-11:59PM \nPlay using your Star Rewards card and you could receive Star Cash!\nEarn 25 points = $5 Star Cash\nEarn 50 points = $5 Star Cash\nEarn 75 Points = $5 Star Cash\nEarn 125 Points = $10 Star Cash \nClick here for official rules.
URL:https://www.starcasino.com/event/wednesday-thrills/2025-08-06/
CATEGORIES:Bagley Promotions,Mahnomen Promotions
ATTACH;FMTTYPE=image/jpeg:https://www.starcasino.com/wp-content/uploads/2020/09/WednesdayThrills_Oct2020_WebGraphic.jpg
END:VEVENT
BEGIN:VEVENT
DTSTART;TZID=America/Chicago:20250806T180000
DTEND;TZID=America/Chicago:20250806T200000
DTSTAMP:20260425T194523
CREATED:20241023T165814Z
LAST-MODIFIED:20241023T170753Z
UID:10096429-1754503200-1754510400@www.starcasino.com
SUMMARY:Meat Raffle
DESCRIPTION:Swipe your Star Rewards card Wednesdays\, between 5PM-7:59PM\, to receive a FREE entry slip. Place slip in the drawing barrel at Star Rewards. Drawings will be held each hour. \n8PM | $75 Meat Bundle\n7PM | $50 Meat Bundle\n6PM | $25 Meat Bundle \nClick here for rules brochure.
URL:https://www.starcasino.com/event/meat-raffle-2/2025-08-06/
CATEGORIES:Bagley Promotions
ATTACH;FMTTYPE=image/png:https://www.starcasino.com/wp-content/uploads/2023/10/MeatRaffleNov2023_WebEvent.png
END:VEVENT
BEGIN:VEVENT
DTSTART;TZID=America/Chicago:20250808T190000
DTEND;TZID=America/Chicago:20250808T230000
DTSTAMP:20260425T194523
CREATED:20231025T144444Z
LAST-MODIFIED:20241014T124703Z
UID:10090713-1754679600-1754694000@www.starcasino.com
SUMMARY:Hot Seats
DESCRIPTION:Bagley | Fridays & Saturdays | 7pm-11pm\nWin up to $150 cash!\nPlay using your Star Rewards card and you could win up to $150 cash. One winners will be selected each hour. \n  \nClick Here for Rules
URL:https://www.starcasino.com/event/125-hot-seat-drawings-2/2025-08-08/
CATEGORIES:Bagley Promotions
ATTACH;FMTTYPE=image/jpeg:https://www.starcasino.com/wp-content/uploads/2023/10/150HotSeats_Oct2024_webevent.jpg
END:VEVENT
BEGIN:VEVENT
DTSTART;TZID=America/Chicago:20250808T200000
DTEND;TZID=America/Chicago:20250809T235900
DTSTAMP:20260425T194523
CREATED:20231003T124659Z
LAST-MODIFIED:20250514T125344Z
UID:10013302-1754683200-1754783940@www.starcasino.com
SUMMARY:Asphalt Cowboys
DESCRIPTION:8pm-12:30am\nAsphalt Cowboys is a high energy variety cover band with several original tunes as well!! We live to play\, play to live\, and LIVE LOUD!! We tour the USA a love performing at casinos and fun live music venues everywhere!
URL:https://www.starcasino.com/event/asphalt-cowboys/
CATEGORIES:Mustang Lounge
ATTACH;FMTTYPE=image/jpeg:https://www.starcasino.com/wp-content/uploads/2023/01/Asphalt-Cowboys-HI-RES-.jpg
END:VEVENT
BEGIN:VEVENT
DTSTART;TZID=America/Chicago:20250812T070000
DTEND;TZID=America/Chicago:20250812T190000
DTSTAMP:20260425T194523
CREATED:20241023T171152Z
LAST-MODIFIED:20241203T204226Z
UID:10096694-1754982000-1755025200@www.starcasino.com
SUMMARY:50+ Spectacular Senior Stars
DESCRIPTION:Extended Hours & Amazing Prizes\nTuesdays | Mahnomen: 7AM-7PM | Bagley: 11AM-7PM\nEarn 15 points and swipe at the kiosk to participate in the Spin the Wheel Kiosk Game and you could win Star Cash\, a dining offer or up to $100 cash. \nClick here for rules.
URL:https://www.starcasino.com/event/50-spectacular-senior-stars-2/2025-08-12/
CATEGORIES:Bagley Promotions,Mahnomen Promotions
ATTACH;FMTTYPE=image/png:https://www.starcasino.com/wp-content/uploads/2024/08/Spectacular-Senior-Stars2024_webevent.png
END:VEVENT
BEGIN:VEVENT
DTSTART;VALUE=DATE:20250813
DTEND;VALUE=DATE:20250814
DTSTAMP:20260425T194523
CREATED:20250731T145446Z
LAST-MODIFIED:20251222T150302Z
UID:10154975-1755043200-1755129599@www.starcasino.com
SUMMARY:Wednesday Thrills
DESCRIPTION:EVERY WEDNESDAY | 12AM-11:59PM \nPlay using your Star Rewards card and you could receive Star Cash!\nEarn 25 points = $5 Star Cash\nEarn 50 points = $5 Star Cash\nEarn 75 Points = $5 Star Cash\nEarn 125 Points = $10 Star Cash \nClick here for official rules.
URL:https://www.starcasino.com/event/wednesday-thrills/2025-08-13/
CATEGORIES:Bagley Promotions,Mahnomen Promotions
ATTACH;FMTTYPE=image/jpeg:https://www.starcasino.com/wp-content/uploads/2020/09/WednesdayThrills_Oct2020_WebGraphic.jpg
END:VEVENT
BEGIN:VEVENT
DTSTART;TZID=America/Chicago:20250813T180000
DTEND;TZID=America/Chicago:20250813T200000
DTSTAMP:20260425T194524
CREATED:20241023T165814Z
LAST-MODIFIED:20241023T170753Z
UID:10096430-1755108000-1755115200@www.starcasino.com
SUMMARY:Meat Raffle
DESCRIPTION:Swipe your Star Rewards card Wednesdays\, between 5PM-7:59PM\, to receive a FREE entry slip. Place slip in the drawing barrel at Star Rewards. Drawings will be held each hour. \n8PM | $75 Meat Bundle\n7PM | $50 Meat Bundle\n6PM | $25 Meat Bundle \nClick here for rules brochure.
URL:https://www.starcasino.com/event/meat-raffle-2/2025-08-13/
CATEGORIES:Bagley Promotions
ATTACH;FMTTYPE=image/png:https://www.starcasino.com/wp-content/uploads/2023/10/MeatRaffleNov2023_WebEvent.png
END:VEVENT
BEGIN:VEVENT
DTSTART;VALUE=DATE:20250815
DTEND;VALUE=DATE:20250817
DTSTAMP:20260425T194524
CREATED:20231104T153337Z
LAST-MODIFIED:20250519T184455Z
UID:10015105-1755216000-1755388799@www.starcasino.com
SUMMARY:Chad Edwards
DESCRIPTION:8PM – 12:30AM\nThe Chad Edwards Band is one of the most engagingly fun bands touring in the Midwest and beyond! Chad and his band of musical magicians (I mean musicians) strive to have their audiences on the dance floor and participating in the show from the get-go! No one has ever left a Chad Edwards show saying “I wish they wouldn’t just stand there”. QUITE THE OPPOSITE! The comments are always “We danced so much our feet hurt for a week” or “I couldn’t talk for a day after the Chad Edwards show because they had us singing the whole night through with them” and on and on! What we’re trying to get across here is the band has fun at what they do and make SURE their audiences have just as much fun as they do! FUN BAND!
URL:https://www.starcasino.com/event/chad-edwards/
CATEGORIES:Mustang Lounge
ATTACH;FMTTYPE=image/jpeg:https://www.starcasino.com/wp-content/uploads/2023/11/Chad-Edwards-2025.jpg
END:VEVENT
BEGIN:VEVENT
DTSTART;TZID=America/Chicago:20250815T190000
DTEND;TZID=America/Chicago:20250815T230000
DTSTAMP:20260425T194524
CREATED:20231025T144444Z
LAST-MODIFIED:20241014T124703Z
UID:10090714-1755284400-1755298800@www.starcasino.com
SUMMARY:Hot Seats
DESCRIPTION:Bagley | Fridays & Saturdays | 7pm-11pm\nWin up to $150 cash!\nPlay using your Star Rewards card and you could win up to $150 cash. One winners will be selected each hour. \n  \nClick Here for Rules
URL:https://www.starcasino.com/event/125-hot-seat-drawings-2/2025-08-15/
CATEGORIES:Bagley Promotions
ATTACH;FMTTYPE=image/jpeg:https://www.starcasino.com/wp-content/uploads/2023/10/150HotSeats_Oct2024_webevent.jpg
END:VEVENT
BEGIN:VEVENT
DTSTART;TZID=America/Chicago:20250819T070000
DTEND;TZID=America/Chicago:20250819T190000
DTSTAMP:20260425T194524
CREATED:20241023T171152Z
LAST-MODIFIED:20241203T204226Z
UID:10096695-1755586800-1755630000@www.starcasino.com
SUMMARY:50+ Spectacular Senior Stars
DESCRIPTION:Extended Hours & Amazing Prizes\nTuesdays | Mahnomen: 7AM-7PM | Bagley: 11AM-7PM\nEarn 15 points and swipe at the kiosk to participate in the Spin the Wheel Kiosk Game and you could win Star Cash\, a dining offer or up to $100 cash. \nClick here for rules.
URL:https://www.starcasino.com/event/50-spectacular-senior-stars-2/2025-08-19/
CATEGORIES:Bagley Promotions,Mahnomen Promotions
ATTACH;FMTTYPE=image/png:https://www.starcasino.com/wp-content/uploads/2024/08/Spectacular-Senior-Stars2024_webevent.png
END:VEVENT
BEGIN:VEVENT
DTSTART;VALUE=DATE:20250820
DTEND;VALUE=DATE:20250821
DTSTAMP:20260425T194524
CREATED:20250731T145446Z
LAST-MODIFIED:20251222T150302Z
UID:10154976-1755648000-1755734399@www.starcasino.com
SUMMARY:Wednesday Thrills
DESCRIPTION:EVERY WEDNESDAY | 12AM-11:59PM \nPlay using your Star Rewards card and you could receive Star Cash!\nEarn 25 points = $5 Star Cash\nEarn 50 points = $5 Star Cash\nEarn 75 Points = $5 Star Cash\nEarn 125 Points = $10 Star Cash \nClick here for official rules.
URL:https://www.starcasino.com/event/wednesday-thrills/2025-08-20/
CATEGORIES:Bagley Promotions,Mahnomen Promotions
ATTACH;FMTTYPE=image/jpeg:https://www.starcasino.com/wp-content/uploads/2020/09/WednesdayThrills_Oct2020_WebGraphic.jpg
END:VEVENT
BEGIN:VEVENT
DTSTART;TZID=America/Chicago:20250820T180000
DTEND;TZID=America/Chicago:20250820T200000
DTSTAMP:20260425T194524
CREATED:20241023T165814Z
LAST-MODIFIED:20241023T170753Z
UID:10096431-1755712800-1755720000@www.starcasino.com
SUMMARY:Meat Raffle
DESCRIPTION:Swipe your Star Rewards card Wednesdays\, between 5PM-7:59PM\, to receive a FREE entry slip. Place slip in the drawing barrel at Star Rewards. Drawings will be held each hour. \n8PM | $75 Meat Bundle\n7PM | $50 Meat Bundle\n6PM | $25 Meat Bundle \nClick here for rules brochure.
URL:https://www.starcasino.com/event/meat-raffle-2/2025-08-20/
CATEGORIES:Bagley Promotions
ATTACH;FMTTYPE=image/png:https://www.starcasino.com/wp-content/uploads/2023/10/MeatRaffleNov2023_WebEvent.png
END:VEVENT
BEGIN:VEVENT
DTSTART;TZID=America/Chicago:20250822T190000
DTEND;TZID=America/Chicago:20250822T230000
DTSTAMP:20260425T194524
CREATED:20231025T144444Z
LAST-MODIFIED:20241014T124703Z
UID:10090715-1755889200-1755903600@www.starcasino.com
SUMMARY:Hot Seats
DESCRIPTION:Bagley | Fridays & Saturdays | 7pm-11pm\nWin up to $150 cash!\nPlay using your Star Rewards card and you could win up to $150 cash. One winners will be selected each hour. \n  \nClick Here for Rules
URL:https://www.starcasino.com/event/125-hot-seat-drawings-2/2025-08-22/
CATEGORIES:Bagley Promotions
ATTACH;FMTTYPE=image/jpeg:https://www.starcasino.com/wp-content/uploads/2023/10/150HotSeats_Oct2024_webevent.jpg
END:VEVENT
BEGIN:VEVENT
DTSTART;TZID=America/Chicago:20250822T200000
DTEND;TZID=America/Chicago:20250822T213000
DTSTAMP:20260425T194524
CREATED:20250513T150025Z
LAST-MODIFIED:20250526T172837Z
UID:10146237-1755892800-1755898200@www.starcasino.com
SUMMARY:Jo Dee Messina
DESCRIPTION:Jumpstarting her career\, Jo Dee’s breakout song\, “Heads Carolina\, Tails California\,” made her a household name. Following the success of her debut\, Jo Dee posted nine No. 1 hits\, including: “Bye\, Bye | I’m Alright\, Stand Beside M\, That’s The Way\, My Give a Damn’s Busted\,\nBring On The Rain” sixteen Top 40 songs including Lesson In Leavin’\, Burn\, Downtime\, You’re Not In Kansas Anymore\, Because You Love Me”\, sold over five million albums worldwide\, and was honored by the ACM Awards\, CMA Awards\, and GRAMMY Awards. As\nJo Dee’s résumé grew\, she proved to be a trendsetter and history-maker\, becoming the first female in country music history to celebrate three consecutive multiweek\, chart-topping songs. \nTickets on sale Monday\, May 26\nStar $90\nSelect $47
URL:https://www.starcasino.com/event/120430/
CATEGORIES:Entertainment
ATTACH;FMTTYPE=image/png:https://www.starcasino.com/wp-content/uploads/2025/05/JoDeeMessinaAugust_2025_webgraphic.png
END:VEVENT
BEGIN:VEVENT
DTSTART;TZID=America/Chicago:20250826T070000
DTEND;TZID=America/Chicago:20250826T190000
DTSTAMP:20260425T194524
CREATED:20241023T171152Z
LAST-MODIFIED:20241203T204226Z
UID:10096696-1756191600-1756234800@www.starcasino.com
SUMMARY:50+ Spectacular Senior Stars
DESCRIPTION:Extended Hours & Amazing Prizes\nTuesdays | Mahnomen: 7AM-7PM | Bagley: 11AM-7PM\nEarn 15 points and swipe at the kiosk to participate in the Spin the Wheel Kiosk Game and you could win Star Cash\, a dining offer or up to $100 cash. \nClick here for rules.
URL:https://www.starcasino.com/event/50-spectacular-senior-stars-2/2025-08-26/
CATEGORIES:Bagley Promotions,Mahnomen Promotions
ATTACH;FMTTYPE=image/png:https://www.starcasino.com/wp-content/uploads/2024/08/Spectacular-Senior-Stars2024_webevent.png
END:VEVENT
BEGIN:VEVENT
DTSTART;VALUE=DATE:20250827
DTEND;VALUE=DATE:20250828
DTSTAMP:20260425T194524
CREATED:20250731T145446Z
LAST-MODIFIED:20251222T150302Z
UID:10154977-1756252800-1756339199@www.starcasino.com
SUMMARY:Wednesday Thrills
DESCRIPTION:EVERY WEDNESDAY | 12AM-11:59PM \nPlay using your Star Rewards card and you could receive Star Cash!\nEarn 25 points = $5 Star Cash\nEarn 50 points = $5 Star Cash\nEarn 75 Points = $5 Star Cash\nEarn 125 Points = $10 Star Cash \nClick here for official rules.
URL:https://www.starcasino.com/event/wednesday-thrills/2025-08-27/
CATEGORIES:Bagley Promotions,Mahnomen Promotions
ATTACH;FMTTYPE=image/jpeg:https://www.starcasino.com/wp-content/uploads/2020/09/WednesdayThrills_Oct2020_WebGraphic.jpg
END:VEVENT
BEGIN:VEVENT
DTSTART;TZID=America/Chicago:20250827T180000
DTEND;TZID=America/Chicago:20250827T200000
DTSTAMP:20260425T194524
CREATED:20241023T165814Z
LAST-MODIFIED:20241023T170753Z
UID:10096432-1756317600-1756324800@www.starcasino.com
SUMMARY:Meat Raffle
DESCRIPTION:Swipe your Star Rewards card Wednesdays\, between 5PM-7:59PM\, to receive a FREE entry slip. Place slip in the drawing barrel at Star Rewards. Drawings will be held each hour. \n8PM | $75 Meat Bundle\n7PM | $50 Meat Bundle\n6PM | $25 Meat Bundle \nClick here for rules brochure.
URL:https://www.starcasino.com/event/meat-raffle-2/2025-08-27/
CATEGORIES:Bagley Promotions
ATTACH;FMTTYPE=image/png:https://www.starcasino.com/wp-content/uploads/2023/10/MeatRaffleNov2023_WebEvent.png
END:VEVENT
BEGIN:VEVENT
DTSTART;VALUE=DATE:20250829
DTEND;VALUE=DATE:20250831
DTSTAMP:20260425T194524
CREATED:20250519T121738Z
LAST-MODIFIED:20250519T121738Z
UID:10147014-1756425600-1756598399@www.starcasino.com
SUMMARY:Tripping Leslie
DESCRIPTION:8pm-12:30am\nTripping Leslie band is a fun\, energetic group that covers a wide variety of genres to satisfy any audience! They constantly have the dance floor packed and people singing along throughout their performance. Fun band\, fun song list and great show!
URL:https://www.starcasino.com/event/tripping-leslie/
CATEGORIES:Mustang Lounge
ATTACH;FMTTYPE=image/png:https://www.starcasino.com/wp-content/uploads/2025/05/Tripping-Leslie-.png
END:VEVENT
BEGIN:VEVENT
DTSTART;TZID=America/Chicago:20250829T190000
DTEND;TZID=America/Chicago:20250829T230000
DTSTAMP:20260425T194524
CREATED:20231025T144444Z
LAST-MODIFIED:20241014T124703Z
UID:10090716-1756494000-1756508400@www.starcasino.com
SUMMARY:Hot Seats
DESCRIPTION:Bagley | Fridays & Saturdays | 7pm-11pm\nWin up to $150 cash!\nPlay using your Star Rewards card and you could win up to $150 cash. One winners will be selected each hour. \n  \nClick Here for Rules
URL:https://www.starcasino.com/event/125-hot-seat-drawings-2/2025-08-29/
CATEGORIES:Bagley Promotions
ATTACH;FMTTYPE=image/jpeg:https://www.starcasino.com/wp-content/uploads/2023/10/150HotSeats_Oct2024_webevent.jpg
END:VEVENT
BEGIN:VEVENT
DTSTART;TZID=America/Chicago:20250830T200000
DTEND;TZID=America/Chicago:20250830T203000
DTSTAMP:20260425T194524
CREATED:20250625T113142Z
LAST-MODIFIED:20250721T165154Z
UID:10151133-1756584000-1756585800@www.starcasino.com
SUMMARY:Cash Is King
DESCRIPTION:Win up to $10\,000! \nSaturday\, August 30\n8PM | Mahnomen \nHead to the tables for some serious cash this summer! Play any live table game and earn entries from July 1 until August 30 at 7:30PM. Receive one entry for every 25 pit points earned. \nClick here for rules
URL:https://www.starcasino.com/event/cash-is-king/
CATEGORIES:Mahnomen Promotions
ATTACH;FMTTYPE=image/png:https://www.starcasino.com/wp-content/uploads/2025/06/CashIsKing_JulyAug2025_webevent.png
END:VEVENT
END:VCALENDAR