BEGIN:VCALENDAR
VERSION:2.0
PRODID:-//Shooting Star Casino | Minnesota Casino, Hotel and Event Center in Mahnomen, Minnesota - ECPv6.15.12.2//NONSGML v1.0//EN
CALSCALE:GREGORIAN
METHOD:PUBLISH
X-WR-CALNAME:Shooting Star Casino | Minnesota Casino, Hotel and Event Center in Mahnomen, Minnesota
X-ORIGINAL-URL:https://www.starcasino.com
X-WR-CALDESC:Events for Shooting Star Casino | Minnesota Casino, Hotel and Event Center in Mahnomen, Minnesota
REFRESH-INTERVAL;VALUE=DURATION:PT1H
X-Robots-Tag:noindex
X-PUBLISHED-TTL:PT1H
BEGIN:VTIMEZONE
TZID:America/Chicago
BEGIN:DAYLIGHT
TZOFFSETFROM:-0600
TZOFFSETTO:-0500
TZNAME:CDT
DTSTART:20240310T080000
END:DAYLIGHT
BEGIN:STANDARD
TZOFFSETFROM:-0500
TZOFFSETTO:-0600
TZNAME:CST
DTSTART:20241103T070000
END:STANDARD
BEGIN:DAYLIGHT
TZOFFSETFROM:-0600
TZOFFSETTO:-0500
TZNAME:CDT
DTSTART:20250309T080000
END:DAYLIGHT
BEGIN:STANDARD
TZOFFSETFROM:-0500
TZOFFSETTO:-0600
TZNAME:CST
DTSTART:20251102T070000
END:STANDARD
BEGIN:DAYLIGHT
TZOFFSETFROM:-0600
TZOFFSETTO:-0500
TZNAME:CDT
DTSTART:20260308T080000
END:DAYLIGHT
BEGIN:STANDARD
TZOFFSETFROM:-0500
TZOFFSETTO:-0600
TZNAME:CST
DTSTART:20261101T070000
END:STANDARD
END:VTIMEZONE
BEGIN:VTIMEZONE
TZID:UTC
BEGIN:STANDARD
TZOFFSETFROM:+0000
TZOFFSETTO:+0000
TZNAME:UTC
DTSTART:20240101T000000
END:STANDARD
END:VTIMEZONE
BEGIN:VEVENT
DTSTART;VALUE=DATE:20251001
DTEND;VALUE=DATE:20251002
DTSTAMP:20260425T162458
CREATED:20250731T145446Z
LAST-MODIFIED:20251222T150302Z
UID:10154982-1759276800-1759363199@www.starcasino.com
SUMMARY:Wednesday Thrills
DESCRIPTION:EVERY WEDNESDAY | 12AM-11:59PM \nPlay using your Star Rewards card and you could receive Star Cash!\nEarn 25 points = $5 Star Cash\nEarn 50 points = $5 Star Cash\nEarn 75 Points = $5 Star Cash\nEarn 125 Points = $10 Star Cash \nClick here for official rules.
URL:https://www.starcasino.com/event/wednesday-thrills/2025-10-01/
CATEGORIES:Bagley Promotions,Mahnomen Promotions
ATTACH;FMTTYPE=image/jpeg:https://www.starcasino.com/wp-content/uploads/2020/09/WednesdayThrills_Oct2020_WebGraphic.jpg
END:VEVENT
BEGIN:VEVENT
DTSTART;TZID=America/Chicago:20251001T180000
DTEND;TZID=America/Chicago:20251001T200000
DTSTAMP:20260425T162458
CREATED:20241023T165814Z
LAST-MODIFIED:20241023T170753Z
UID:10096437-1759341600-1759348800@www.starcasino.com
SUMMARY:Meat Raffle
DESCRIPTION:Swipe your Star Rewards card Wednesdays\, between 5PM-7:59PM\, to receive a FREE entry slip. Place slip in the drawing barrel at Star Rewards. Drawings will be held each hour. \n8PM | $75 Meat Bundle\n7PM | $50 Meat Bundle\n6PM | $25 Meat Bundle \nClick here for rules brochure.
URL:https://www.starcasino.com/event/meat-raffle-2/2025-10-01/
CATEGORIES:Bagley Promotions
ATTACH;FMTTYPE=image/png:https://www.starcasino.com/wp-content/uploads/2023/10/MeatRaffleNov2023_WebEvent.png
END:VEVENT
BEGIN:VEVENT
DTSTART;TZID=America/Chicago:20251002T160000
DTEND;TZID=America/Chicago:20251002T200000
DTSTAMP:20260425T162458
CREATED:20250925T123315Z
LAST-MODIFIED:20250925T123315Z
UID:10161363-1759420800-1759435200@www.starcasino.com
SUMMARY:Trick or Treat Hot Seats
DESCRIPTION:Thursdays in October | 4PM-8PM | Mahnomen & Bagley \nPlay using your Star Rewards card on your designated tier drawing day and you could win cash! Drawings held every half hour. \nOCT 2\, 16 & 30\nSun\, Star & Sky Tier Drawings \nOCT 9 & 23\nWind\, Water & Earth Tier Drawings \nClick here for rules.
URL:https://www.starcasino.com/event/trick-or-treat-hot-seats/2025-10-02/
CATEGORIES:Bagley Promotions,Mahnomen Promotions
ATTACH;FMTTYPE=image/png:https://www.starcasino.com/wp-content/uploads/2025/09/TrickorTreat_HotSeats_2025_web.png
END:VEVENT
BEGIN:VEVENT
DTSTART;TZID=UTC:20251003T180000
DTEND;TZID=UTC:20251003T190000
DTSTAMP:20260425T162458
CREATED:20251001T161009Z
LAST-MODIFIED:20260422T181028Z
UID:10019166-1759514400-1759518000@www.starcasino.com
SUMMARY:Teleconference Bingo Fun!
DESCRIPTION:Teleconference Bingo will be played every Friday and Monday at 6pm.\nFriday\, April 24 | 52#s for 10-$1\,000 Winners\nAll games pay $500\nConsolation on Coverall $500\nMinimum payout of $100 per game.\n(Cost of Green Cards – $5) \nMonday\, April 27 | 52#s for 1 – $1\,199 Winner\nAll games pay $200\nConsolation on Coverall $200\nMinimum payout of $50 per game.\n(Cost of Purple Cards – $3) \nTeleconference is played at:\n\nLITTLE DIPPER BAR & GRILL AT SHOOTING STAR – BAGLEY!\nMUSTANG LOUNGE\nIce Cracking\nBerry’s Bar\nBones 113 (Mondays Only)\nCallaway\nLean To Tavern\nMahnomen Liquor Store – Wild Rice Lounge\nPinehurst\nOgema Liquor Store (Fridays Only)\nRuffed Grouse Roadhouse\nPeachy’s Pub\nSundown Bar (Fridays Only)\nCedar Crest (Memorial Day-Labor Day – Mondays Only)\nMahnomen Country Club (Memorial Day-Labor Day – Fridays Only)\n\n*Locations subject to change. \n  \nClick Here for Rules
URL:https://www.starcasino.com/event/teleconference-bingo-2-2/2025-10-03/
CATEGORIES:Bingo
ATTACH;FMTTYPE=image/jpeg:https://www.starcasino.com/wp-content/uploads/2022/09/TeleConf_MonFri_Sept2022_WebGraphic.jpg
END:VEVENT
BEGIN:VEVENT
DTSTART;TZID=America/Chicago:20251003T190000
DTEND;TZID=America/Chicago:20251003T230000
DTSTAMP:20260425T162458
CREATED:20231025T144444Z
LAST-MODIFIED:20241014T124703Z
UID:10090721-1759518000-1759532400@www.starcasino.com
SUMMARY:Hot Seats
DESCRIPTION:Bagley | Fridays & Saturdays | 7pm-11pm\nWin up to $150 cash!\nPlay using your Star Rewards card and you could win up to $150 cash. One winners will be selected each hour. \n  \nClick Here for Rules
URL:https://www.starcasino.com/event/125-hot-seat-drawings-2/2025-10-03/
CATEGORIES:Bagley Promotions
ATTACH;FMTTYPE=image/jpeg:https://www.starcasino.com/wp-content/uploads/2023/10/150HotSeats_Oct2024_webevent.jpg
END:VEVENT
BEGIN:VEVENT
DTSTART;TZID=America/Chicago:20251005T170000
DTEND;TZID=America/Chicago:20251005T210000
DTSTAMP:20260425T162458
CREATED:20250925T122551Z
LAST-MODIFIED:20250925T122551Z
UID:10161359-1759683600-1759698000@www.starcasino.com
SUMMARY:Spooky Slots & Treats
DESCRIPTION:CHANCE TO WIN UP TO $2\,000 CASH! \nSundays\, October 5\, 12 & 19 | 5PM-9PM | Mahnomen & Bagley \nCelebrate Halloween all month with an extra-special treat\, either cash or Star Cash!\nFrom Sept 29 – Oct 19 earn 25 slot/tier points to receive an entry. \nClick here for rules.
URL:https://www.starcasino.com/event/spooky-slots-treats/2025-10-05/
CATEGORIES:Bagley Promotions,Mahnomen Promotions
ATTACH;FMTTYPE=image/png:https://www.starcasino.com/wp-content/uploads/2025/09/SpookySlotsandTreats_2025_web.png
END:VEVENT
BEGIN:VEVENT
DTSTART;TZID=UTC:20251006T180000
DTEND;TZID=UTC:20251006T190000
DTSTAMP:20260425T162458
CREATED:20251001T161009Z
LAST-MODIFIED:20260422T181028Z
UID:10019167-1759773600-1759777200@www.starcasino.com
SUMMARY:Teleconference Bingo Fun!
DESCRIPTION:Teleconference Bingo will be played every Friday and Monday at 6pm.\nFriday\, April 24 | 52#s for 10-$1\,000 Winners\nAll games pay $500\nConsolation on Coverall $500\nMinimum payout of $100 per game.\n(Cost of Green Cards – $5) \nMonday\, April 27 | 52#s for 1 – $1\,199 Winner\nAll games pay $200\nConsolation on Coverall $200\nMinimum payout of $50 per game.\n(Cost of Purple Cards – $3) \nTeleconference is played at:\n\nLITTLE DIPPER BAR & GRILL AT SHOOTING STAR – BAGLEY!\nMUSTANG LOUNGE\nIce Cracking\nBerry’s Bar\nBones 113 (Mondays Only)\nCallaway\nLean To Tavern\nMahnomen Liquor Store – Wild Rice Lounge\nPinehurst\nOgema Liquor Store (Fridays Only)\nRuffed Grouse Roadhouse\nPeachy’s Pub\nSundown Bar (Fridays Only)\nCedar Crest (Memorial Day-Labor Day – Mondays Only)\nMahnomen Country Club (Memorial Day-Labor Day – Fridays Only)\n\n*Locations subject to change. \n  \nClick Here for Rules
URL:https://www.starcasino.com/event/teleconference-bingo-2-2/2025-10-06/
CATEGORIES:Bingo
ATTACH;FMTTYPE=image/jpeg:https://www.starcasino.com/wp-content/uploads/2022/09/TeleConf_MonFri_Sept2022_WebGraphic.jpg
END:VEVENT
BEGIN:VEVENT
DTSTART;TZID=America/Chicago:20251007T070000
DTEND;TZID=America/Chicago:20251007T190000
DTSTAMP:20260425T162458
CREATED:20241023T171152Z
LAST-MODIFIED:20241203T204226Z
UID:10096702-1759820400-1759863600@www.starcasino.com
SUMMARY:50+ Spectacular Senior Stars
DESCRIPTION:Extended Hours & Amazing Prizes\nTuesdays | Mahnomen: 7AM-7PM | Bagley: 11AM-7PM\nEarn 15 points and swipe at the kiosk to participate in the Spin the Wheel Kiosk Game and you could win Star Cash\, a dining offer or up to $100 cash. \nClick here for rules.
URL:https://www.starcasino.com/event/50-spectacular-senior-stars-2/2025-10-07/
CATEGORIES:Bagley Promotions,Mahnomen Promotions
ATTACH;FMTTYPE=image/png:https://www.starcasino.com/wp-content/uploads/2024/08/Spectacular-Senior-Stars2024_webevent.png
END:VEVENT
BEGIN:VEVENT
DTSTART;VALUE=DATE:20251008
DTEND;VALUE=DATE:20251009
DTSTAMP:20260425T162458
CREATED:20250731T145446Z
LAST-MODIFIED:20251222T150302Z
UID:10154983-1759881600-1759967999@www.starcasino.com
SUMMARY:Wednesday Thrills
DESCRIPTION:EVERY WEDNESDAY | 12AM-11:59PM \nPlay using your Star Rewards card and you could receive Star Cash!\nEarn 25 points = $5 Star Cash\nEarn 50 points = $5 Star Cash\nEarn 75 Points = $5 Star Cash\nEarn 125 Points = $10 Star Cash \nClick here for official rules.
URL:https://www.starcasino.com/event/wednesday-thrills/2025-10-08/
CATEGORIES:Bagley Promotions,Mahnomen Promotions
ATTACH;FMTTYPE=image/jpeg:https://www.starcasino.com/wp-content/uploads/2020/09/WednesdayThrills_Oct2020_WebGraphic.jpg
END:VEVENT
BEGIN:VEVENT
DTSTART;TZID=America/Chicago:20251008T180000
DTEND;TZID=America/Chicago:20251008T200000
DTSTAMP:20260425T162458
CREATED:20241023T165814Z
LAST-MODIFIED:20241023T170753Z
UID:10096438-1759946400-1759953600@www.starcasino.com
SUMMARY:Meat Raffle
DESCRIPTION:Swipe your Star Rewards card Wednesdays\, between 5PM-7:59PM\, to receive a FREE entry slip. Place slip in the drawing barrel at Star Rewards. Drawings will be held each hour. \n8PM | $75 Meat Bundle\n7PM | $50 Meat Bundle\n6PM | $25 Meat Bundle \nClick here for rules brochure.
URL:https://www.starcasino.com/event/meat-raffle-2/2025-10-08/
CATEGORIES:Bagley Promotions
ATTACH;FMTTYPE=image/png:https://www.starcasino.com/wp-content/uploads/2023/10/MeatRaffleNov2023_WebEvent.png
END:VEVENT
BEGIN:VEVENT
DTSTART;TZID=America/Chicago:20251009T160000
DTEND;TZID=America/Chicago:20251009T200000
DTSTAMP:20260425T162458
CREATED:20250925T123315Z
LAST-MODIFIED:20250925T123315Z
UID:10161364-1760025600-1760040000@www.starcasino.com
SUMMARY:Trick or Treat Hot Seats
DESCRIPTION:Thursdays in October | 4PM-8PM | Mahnomen & Bagley \nPlay using your Star Rewards card on your designated tier drawing day and you could win cash! Drawings held every half hour. \nOCT 2\, 16 & 30\nSun\, Star & Sky Tier Drawings \nOCT 9 & 23\nWind\, Water & Earth Tier Drawings \nClick here for rules.
URL:https://www.starcasino.com/event/trick-or-treat-hot-seats/2025-10-09/
CATEGORIES:Bagley Promotions,Mahnomen Promotions
ATTACH;FMTTYPE=image/png:https://www.starcasino.com/wp-content/uploads/2025/09/TrickorTreat_HotSeats_2025_web.png
END:VEVENT
BEGIN:VEVENT
DTSTART;TZID=UTC:20251010T180000
DTEND;TZID=UTC:20251010T190000
DTSTAMP:20260425T162458
CREATED:20251001T161009Z
LAST-MODIFIED:20260422T181028Z
UID:10019168-1760119200-1760122800@www.starcasino.com
SUMMARY:Teleconference Bingo Fun!
DESCRIPTION:Teleconference Bingo will be played every Friday and Monday at 6pm.\nFriday\, April 24 | 52#s for 10-$1\,000 Winners\nAll games pay $500\nConsolation on Coverall $500\nMinimum payout of $100 per game.\n(Cost of Green Cards – $5) \nMonday\, April 27 | 52#s for 1 – $1\,199 Winner\nAll games pay $200\nConsolation on Coverall $200\nMinimum payout of $50 per game.\n(Cost of Purple Cards – $3) \nTeleconference is played at:\n\nLITTLE DIPPER BAR & GRILL AT SHOOTING STAR – BAGLEY!\nMUSTANG LOUNGE\nIce Cracking\nBerry’s Bar\nBones 113 (Mondays Only)\nCallaway\nLean To Tavern\nMahnomen Liquor Store – Wild Rice Lounge\nPinehurst\nOgema Liquor Store (Fridays Only)\nRuffed Grouse Roadhouse\nPeachy’s Pub\nSundown Bar (Fridays Only)\nCedar Crest (Memorial Day-Labor Day – Mondays Only)\nMahnomen Country Club (Memorial Day-Labor Day – Fridays Only)\n\n*Locations subject to change. \n  \nClick Here for Rules
URL:https://www.starcasino.com/event/teleconference-bingo-2-2/2025-10-10/
CATEGORIES:Bingo
ATTACH;FMTTYPE=image/jpeg:https://www.starcasino.com/wp-content/uploads/2022/09/TeleConf_MonFri_Sept2022_WebGraphic.jpg
END:VEVENT
BEGIN:VEVENT
DTSTART;TZID=America/Chicago:20251010T190000
DTEND;TZID=America/Chicago:20251010T230000
DTSTAMP:20260425T162458
CREATED:20231025T144444Z
LAST-MODIFIED:20241014T124703Z
UID:10090722-1760122800-1760137200@www.starcasino.com
SUMMARY:Hot Seats
DESCRIPTION:Bagley | Fridays & Saturdays | 7pm-11pm\nWin up to $150 cash!\nPlay using your Star Rewards card and you could win up to $150 cash. One winners will be selected each hour. \n  \nClick Here for Rules
URL:https://www.starcasino.com/event/125-hot-seat-drawings-2/2025-10-10/
CATEGORIES:Bagley Promotions
ATTACH;FMTTYPE=image/jpeg:https://www.starcasino.com/wp-content/uploads/2023/10/150HotSeats_Oct2024_webevent.jpg
END:VEVENT
BEGIN:VEVENT
DTSTART;TZID=America/Chicago:20251010T200000
DTEND;TZID=America/Chicago:20251010T213000
DTSTAMP:20260425T162458
CREATED:20250701T182722Z
LAST-MODIFIED:20250717T133927Z
UID:10151660-1760126400-1760131800@www.starcasino.com
SUMMARY:The Orchestra Starring ELO and ELO Part II Former Members
DESCRIPTION:THE ORCHESTRA Starring ELO and ELO Part II Former Members Brings ELO’s Greatest Hits to Shooting Star \nFans of classic rock anthems and lush string-driven soundscapes – this one is for you! With a legacy spanning decades and a catalog that shaped the sound of the ‘70s and ‘80s\, THE ORCHESTRA will light the stage with iconic hits like “Can’t Get it Out of My Head\,” “Don’t Bring Me Down” and “Evil Woman.” \nFormed from the heart of ELO’s legendary lineage\, THE ORCHESTRA isn’t just performing hits – they’re preserving a musical legacy that has captivated millions across generations. From soaring strings to spine-tingling harmonies\, their live show is a faithful\, electrifying journey through the golden age of symphonic rock. \nTickets on sale Monday\, July 14\, 2025\nStar $60\nSelect $30
URL:https://www.starcasino.com/event/the-orchestra/
CATEGORIES:Entertainment
ATTACH;FMTTYPE=image/png:https://www.starcasino.com/wp-content/uploads/2025/07/tHEoRCHESTRAoCT2025_webgraphic-1.png
END:VEVENT
BEGIN:VEVENT
DTSTART;TZID=America/Chicago:20251012T170000
DTEND;TZID=America/Chicago:20251012T210000
DTSTAMP:20260425T162458
CREATED:20250925T122551Z
LAST-MODIFIED:20250925T122551Z
UID:10161360-1760288400-1760302800@www.starcasino.com
SUMMARY:Spooky Slots & Treats
DESCRIPTION:CHANCE TO WIN UP TO $2\,000 CASH! \nSundays\, October 5\, 12 & 19 | 5PM-9PM | Mahnomen & Bagley \nCelebrate Halloween all month with an extra-special treat\, either cash or Star Cash!\nFrom Sept 29 – Oct 19 earn 25 slot/tier points to receive an entry. \nClick here for rules.
URL:https://www.starcasino.com/event/spooky-slots-treats/2025-10-12/
CATEGORIES:Bagley Promotions,Mahnomen Promotions
ATTACH;FMTTYPE=image/png:https://www.starcasino.com/wp-content/uploads/2025/09/SpookySlotsandTreats_2025_web.png
END:VEVENT
BEGIN:VEVENT
DTSTART;TZID=UTC:20251013T180000
DTEND;TZID=UTC:20251013T190000
DTSTAMP:20260425T162458
CREATED:20251001T161009Z
LAST-MODIFIED:20260422T181028Z
UID:10019169-1760378400-1760382000@www.starcasino.com
SUMMARY:Teleconference Bingo Fun!
DESCRIPTION:Teleconference Bingo will be played every Friday and Monday at 6pm.\nFriday\, April 24 | 52#s for 10-$1\,000 Winners\nAll games pay $500\nConsolation on Coverall $500\nMinimum payout of $100 per game.\n(Cost of Green Cards – $5) \nMonday\, April 27 | 52#s for 1 – $1\,199 Winner\nAll games pay $200\nConsolation on Coverall $200\nMinimum payout of $50 per game.\n(Cost of Purple Cards – $3) \nTeleconference is played at:\n\nLITTLE DIPPER BAR & GRILL AT SHOOTING STAR – BAGLEY!\nMUSTANG LOUNGE\nIce Cracking\nBerry’s Bar\nBones 113 (Mondays Only)\nCallaway\nLean To Tavern\nMahnomen Liquor Store – Wild Rice Lounge\nPinehurst\nOgema Liquor Store (Fridays Only)\nRuffed Grouse Roadhouse\nPeachy’s Pub\nSundown Bar (Fridays Only)\nCedar Crest (Memorial Day-Labor Day – Mondays Only)\nMahnomen Country Club (Memorial Day-Labor Day – Fridays Only)\n\n*Locations subject to change. \n  \nClick Here for Rules
URL:https://www.starcasino.com/event/teleconference-bingo-2-2/2025-10-13/
CATEGORIES:Bingo
ATTACH;FMTTYPE=image/jpeg:https://www.starcasino.com/wp-content/uploads/2022/09/TeleConf_MonFri_Sept2022_WebGraphic.jpg
END:VEVENT
BEGIN:VEVENT
DTSTART;TZID=America/Chicago:20251014T070000
DTEND;TZID=America/Chicago:20251014T190000
DTSTAMP:20260425T162458
CREATED:20241023T171152Z
LAST-MODIFIED:20241203T204226Z
UID:10096703-1760425200-1760468400@www.starcasino.com
SUMMARY:50+ Spectacular Senior Stars
DESCRIPTION:Extended Hours & Amazing Prizes\nTuesdays | Mahnomen: 7AM-7PM | Bagley: 11AM-7PM\nEarn 15 points and swipe at the kiosk to participate in the Spin the Wheel Kiosk Game and you could win Star Cash\, a dining offer or up to $100 cash. \nClick here for rules.
URL:https://www.starcasino.com/event/50-spectacular-senior-stars-2/2025-10-14/
CATEGORIES:Bagley Promotions,Mahnomen Promotions
ATTACH;FMTTYPE=image/png:https://www.starcasino.com/wp-content/uploads/2024/08/Spectacular-Senior-Stars2024_webevent.png
END:VEVENT
BEGIN:VEVENT
DTSTART;VALUE=DATE:20251015
DTEND;VALUE=DATE:20251016
DTSTAMP:20260425T162458
CREATED:20250731T145446Z
LAST-MODIFIED:20251222T150302Z
UID:10154984-1760486400-1760572799@www.starcasino.com
SUMMARY:Wednesday Thrills
DESCRIPTION:EVERY WEDNESDAY | 12AM-11:59PM \nPlay using your Star Rewards card and you could receive Star Cash!\nEarn 25 points = $5 Star Cash\nEarn 50 points = $5 Star Cash\nEarn 75 Points = $5 Star Cash\nEarn 125 Points = $10 Star Cash \nClick here for official rules.
URL:https://www.starcasino.com/event/wednesday-thrills/2025-10-15/
CATEGORIES:Bagley Promotions,Mahnomen Promotions
ATTACH;FMTTYPE=image/jpeg:https://www.starcasino.com/wp-content/uploads/2020/09/WednesdayThrills_Oct2020_WebGraphic.jpg
END:VEVENT
BEGIN:VEVENT
DTSTART;TZID=America/Chicago:20251015T180000
DTEND;TZID=America/Chicago:20251015T200000
DTSTAMP:20260425T162458
CREATED:20241023T165814Z
LAST-MODIFIED:20241023T170753Z
UID:10096439-1760551200-1760558400@www.starcasino.com
SUMMARY:Meat Raffle
DESCRIPTION:Swipe your Star Rewards card Wednesdays\, between 5PM-7:59PM\, to receive a FREE entry slip. Place slip in the drawing barrel at Star Rewards. Drawings will be held each hour. \n8PM | $75 Meat Bundle\n7PM | $50 Meat Bundle\n6PM | $25 Meat Bundle \nClick here for rules brochure.
URL:https://www.starcasino.com/event/meat-raffle-2/2025-10-15/
CATEGORIES:Bagley Promotions
ATTACH;FMTTYPE=image/png:https://www.starcasino.com/wp-content/uploads/2023/10/MeatRaffleNov2023_WebEvent.png
END:VEVENT
BEGIN:VEVENT
DTSTART;TZID=America/Chicago:20251016T160000
DTEND;TZID=America/Chicago:20251016T200000
DTSTAMP:20260425T162458
CREATED:20250925T123315Z
LAST-MODIFIED:20250925T123315Z
UID:10161365-1760630400-1760644800@www.starcasino.com
SUMMARY:Trick or Treat Hot Seats
DESCRIPTION:Thursdays in October | 4PM-8PM | Mahnomen & Bagley \nPlay using your Star Rewards card on your designated tier drawing day and you could win cash! Drawings held every half hour. \nOCT 2\, 16 & 30\nSun\, Star & Sky Tier Drawings \nOCT 9 & 23\nWind\, Water & Earth Tier Drawings \nClick here for rules.
URL:https://www.starcasino.com/event/trick-or-treat-hot-seats/2025-10-16/
CATEGORIES:Bagley Promotions,Mahnomen Promotions
ATTACH;FMTTYPE=image/png:https://www.starcasino.com/wp-content/uploads/2025/09/TrickorTreat_HotSeats_2025_web.png
END:VEVENT
BEGIN:VEVENT
DTSTART;TZID=UTC:20251017T180000
DTEND;TZID=UTC:20251017T190000
DTSTAMP:20260425T162458
CREATED:20251001T161009Z
LAST-MODIFIED:20260422T181028Z
UID:10019170-1760724000-1760727600@www.starcasino.com
SUMMARY:Teleconference Bingo Fun!
DESCRIPTION:Teleconference Bingo will be played every Friday and Monday at 6pm.\nFriday\, April 24 | 52#s for 10-$1\,000 Winners\nAll games pay $500\nConsolation on Coverall $500\nMinimum payout of $100 per game.\n(Cost of Green Cards – $5) \nMonday\, April 27 | 52#s for 1 – $1\,199 Winner\nAll games pay $200\nConsolation on Coverall $200\nMinimum payout of $50 per game.\n(Cost of Purple Cards – $3) \nTeleconference is played at:\n\nLITTLE DIPPER BAR & GRILL AT SHOOTING STAR – BAGLEY!\nMUSTANG LOUNGE\nIce Cracking\nBerry’s Bar\nBones 113 (Mondays Only)\nCallaway\nLean To Tavern\nMahnomen Liquor Store – Wild Rice Lounge\nPinehurst\nOgema Liquor Store (Fridays Only)\nRuffed Grouse Roadhouse\nPeachy’s Pub\nSundown Bar (Fridays Only)\nCedar Crest (Memorial Day-Labor Day – Mondays Only)\nMahnomen Country Club (Memorial Day-Labor Day – Fridays Only)\n\n*Locations subject to change. \n  \nClick Here for Rules
URL:https://www.starcasino.com/event/teleconference-bingo-2-2/2025-10-17/
CATEGORIES:Bingo
ATTACH;FMTTYPE=image/jpeg:https://www.starcasino.com/wp-content/uploads/2022/09/TeleConf_MonFri_Sept2022_WebGraphic.jpg
END:VEVENT
BEGIN:VEVENT
DTSTART;TZID=America/Chicago:20251017T190000
DTEND;TZID=America/Chicago:20251017T230000
DTSTAMP:20260425T162458
CREATED:20231025T144444Z
LAST-MODIFIED:20241014T124703Z
UID:10090723-1760727600-1760742000@www.starcasino.com
SUMMARY:Hot Seats
DESCRIPTION:Bagley | Fridays & Saturdays | 7pm-11pm\nWin up to $150 cash!\nPlay using your Star Rewards card and you could win up to $150 cash. One winners will be selected each hour. \n  \nClick Here for Rules
URL:https://www.starcasino.com/event/125-hot-seat-drawings-2/2025-10-17/
CATEGORIES:Bagley Promotions
ATTACH;FMTTYPE=image/jpeg:https://www.starcasino.com/wp-content/uploads/2023/10/150HotSeats_Oct2024_webevent.jpg
END:VEVENT
BEGIN:VEVENT
DTSTART;TZID=America/Chicago:20251019T170000
DTEND;TZID=America/Chicago:20251019T210000
DTSTAMP:20260425T162458
CREATED:20250925T122551Z
LAST-MODIFIED:20250925T122551Z
UID:10161361-1760893200-1760907600@www.starcasino.com
SUMMARY:Spooky Slots & Treats
DESCRIPTION:CHANCE TO WIN UP TO $2\,000 CASH! \nSundays\, October 5\, 12 & 19 | 5PM-9PM | Mahnomen & Bagley \nCelebrate Halloween all month with an extra-special treat\, either cash or Star Cash!\nFrom Sept 29 – Oct 19 earn 25 slot/tier points to receive an entry. \nClick here for rules.
URL:https://www.starcasino.com/event/spooky-slots-treats/2025-10-19/
CATEGORIES:Bagley Promotions,Mahnomen Promotions
ATTACH;FMTTYPE=image/png:https://www.starcasino.com/wp-content/uploads/2025/09/SpookySlotsandTreats_2025_web.png
END:VEVENT
BEGIN:VEVENT
DTSTART;TZID=UTC:20251020T180000
DTEND;TZID=UTC:20251020T190000
DTSTAMP:20260425T162458
CREATED:20251001T161009Z
LAST-MODIFIED:20260422T181028Z
UID:10019171-1760983200-1760986800@www.starcasino.com
SUMMARY:Teleconference Bingo Fun!
DESCRIPTION:Teleconference Bingo will be played every Friday and Monday at 6pm.\nFriday\, April 24 | 52#s for 10-$1\,000 Winners\nAll games pay $500\nConsolation on Coverall $500\nMinimum payout of $100 per game.\n(Cost of Green Cards – $5) \nMonday\, April 27 | 52#s for 1 – $1\,199 Winner\nAll games pay $200\nConsolation on Coverall $200\nMinimum payout of $50 per game.\n(Cost of Purple Cards – $3) \nTeleconference is played at:\n\nLITTLE DIPPER BAR & GRILL AT SHOOTING STAR – BAGLEY!\nMUSTANG LOUNGE\nIce Cracking\nBerry’s Bar\nBones 113 (Mondays Only)\nCallaway\nLean To Tavern\nMahnomen Liquor Store – Wild Rice Lounge\nPinehurst\nOgema Liquor Store (Fridays Only)\nRuffed Grouse Roadhouse\nPeachy’s Pub\nSundown Bar (Fridays Only)\nCedar Crest (Memorial Day-Labor Day – Mondays Only)\nMahnomen Country Club (Memorial Day-Labor Day – Fridays Only)\n\n*Locations subject to change. \n  \nClick Here for Rules
URL:https://www.starcasino.com/event/teleconference-bingo-2-2/2025-10-20/
CATEGORIES:Bingo
ATTACH;FMTTYPE=image/jpeg:https://www.starcasino.com/wp-content/uploads/2022/09/TeleConf_MonFri_Sept2022_WebGraphic.jpg
END:VEVENT
BEGIN:VEVENT
DTSTART;TZID=America/Chicago:20251021T070000
DTEND;TZID=America/Chicago:20251021T190000
DTSTAMP:20260425T162458
CREATED:20241023T171152Z
LAST-MODIFIED:20241203T204226Z
UID:10096704-1761030000-1761073200@www.starcasino.com
SUMMARY:50+ Spectacular Senior Stars
DESCRIPTION:Extended Hours & Amazing Prizes\nTuesdays | Mahnomen: 7AM-7PM | Bagley: 11AM-7PM\nEarn 15 points and swipe at the kiosk to participate in the Spin the Wheel Kiosk Game and you could win Star Cash\, a dining offer or up to $100 cash. \nClick here for rules.
URL:https://www.starcasino.com/event/50-spectacular-senior-stars-2/2025-10-21/
CATEGORIES:Bagley Promotions,Mahnomen Promotions
ATTACH;FMTTYPE=image/png:https://www.starcasino.com/wp-content/uploads/2024/08/Spectacular-Senior-Stars2024_webevent.png
END:VEVENT
BEGIN:VEVENT
DTSTART;VALUE=DATE:20251022
DTEND;VALUE=DATE:20251023
DTSTAMP:20260425T162458
CREATED:20250731T145446Z
LAST-MODIFIED:20251222T150302Z
UID:10154985-1761091200-1761177599@www.starcasino.com
SUMMARY:Wednesday Thrills
DESCRIPTION:EVERY WEDNESDAY | 12AM-11:59PM \nPlay using your Star Rewards card and you could receive Star Cash!\nEarn 25 points = $5 Star Cash\nEarn 50 points = $5 Star Cash\nEarn 75 Points = $5 Star Cash\nEarn 125 Points = $10 Star Cash \nClick here for official rules.
URL:https://www.starcasino.com/event/wednesday-thrills/2025-10-22/
CATEGORIES:Bagley Promotions,Mahnomen Promotions
ATTACH;FMTTYPE=image/jpeg:https://www.starcasino.com/wp-content/uploads/2020/09/WednesdayThrills_Oct2020_WebGraphic.jpg
END:VEVENT
BEGIN:VEVENT
DTSTART;TZID=America/Chicago:20251022T180000
DTEND;TZID=America/Chicago:20251022T200000
DTSTAMP:20260425T162458
CREATED:20241023T165814Z
LAST-MODIFIED:20241023T170753Z
UID:10096440-1761156000-1761163200@www.starcasino.com
SUMMARY:Meat Raffle
DESCRIPTION:Swipe your Star Rewards card Wednesdays\, between 5PM-7:59PM\, to receive a FREE entry slip. Place slip in the drawing barrel at Star Rewards. Drawings will be held each hour. \n8PM | $75 Meat Bundle\n7PM | $50 Meat Bundle\n6PM | $25 Meat Bundle \nClick here for rules brochure.
URL:https://www.starcasino.com/event/meat-raffle-2/2025-10-22/
CATEGORIES:Bagley Promotions
ATTACH;FMTTYPE=image/png:https://www.starcasino.com/wp-content/uploads/2023/10/MeatRaffleNov2023_WebEvent.png
END:VEVENT
BEGIN:VEVENT
DTSTART;TZID=America/Chicago:20251023T160000
DTEND;TZID=America/Chicago:20251023T200000
DTSTAMP:20260425T162458
CREATED:20250925T123315Z
LAST-MODIFIED:20250925T123315Z
UID:10161366-1761235200-1761249600@www.starcasino.com
SUMMARY:Trick or Treat Hot Seats
DESCRIPTION:Thursdays in October | 4PM-8PM | Mahnomen & Bagley \nPlay using your Star Rewards card on your designated tier drawing day and you could win cash! Drawings held every half hour. \nOCT 2\, 16 & 30\nSun\, Star & Sky Tier Drawings \nOCT 9 & 23\nWind\, Water & Earth Tier Drawings \nClick here for rules.
URL:https://www.starcasino.com/event/trick-or-treat-hot-seats/2025-10-23/
CATEGORIES:Bagley Promotions,Mahnomen Promotions
ATTACH;FMTTYPE=image/png:https://www.starcasino.com/wp-content/uploads/2025/09/TrickorTreat_HotSeats_2025_web.png
END:VEVENT
BEGIN:VEVENT
DTSTART;TZID=UTC:20251024T180000
DTEND;TZID=UTC:20251024T190000
DTSTAMP:20260425T162458
CREATED:20251001T161009Z
LAST-MODIFIED:20260422T181028Z
UID:10019172-1761328800-1761332400@www.starcasino.com
SUMMARY:Teleconference Bingo Fun!
DESCRIPTION:Teleconference Bingo will be played every Friday and Monday at 6pm.\nFriday\, April 24 | 52#s for 10-$1\,000 Winners\nAll games pay $500\nConsolation on Coverall $500\nMinimum payout of $100 per game.\n(Cost of Green Cards – $5) \nMonday\, April 27 | 52#s for 1 – $1\,199 Winner\nAll games pay $200\nConsolation on Coverall $200\nMinimum payout of $50 per game.\n(Cost of Purple Cards – $3) \nTeleconference is played at:\n\nLITTLE DIPPER BAR & GRILL AT SHOOTING STAR – BAGLEY!\nMUSTANG LOUNGE\nIce Cracking\nBerry’s Bar\nBones 113 (Mondays Only)\nCallaway\nLean To Tavern\nMahnomen Liquor Store – Wild Rice Lounge\nPinehurst\nOgema Liquor Store (Fridays Only)\nRuffed Grouse Roadhouse\nPeachy’s Pub\nSundown Bar (Fridays Only)\nCedar Crest (Memorial Day-Labor Day – Mondays Only)\nMahnomen Country Club (Memorial Day-Labor Day – Fridays Only)\n\n*Locations subject to change. \n  \nClick Here for Rules
URL:https://www.starcasino.com/event/teleconference-bingo-2-2/2025-10-24/
CATEGORIES:Bingo
ATTACH;FMTTYPE=image/jpeg:https://www.starcasino.com/wp-content/uploads/2022/09/TeleConf_MonFri_Sept2022_WebGraphic.jpg
END:VEVENT
BEGIN:VEVENT
DTSTART;TZID=America/Chicago:20251024T190000
DTEND;TZID=America/Chicago:20251024T230000
DTSTAMP:20260425T162458
CREATED:20231025T144444Z
LAST-MODIFIED:20241014T124703Z
UID:10090724-1761332400-1761346800@www.starcasino.com
SUMMARY:Hot Seats
DESCRIPTION:Bagley | Fridays & Saturdays | 7pm-11pm\nWin up to $150 cash!\nPlay using your Star Rewards card and you could win up to $150 cash. One winners will be selected each hour. \n  \nClick Here for Rules
URL:https://www.starcasino.com/event/125-hot-seat-drawings-2/2025-10-24/
CATEGORIES:Bagley Promotions
ATTACH;FMTTYPE=image/jpeg:https://www.starcasino.com/wp-content/uploads/2023/10/150HotSeats_Oct2024_webevent.jpg
END:VEVENT
END:VCALENDAR