BEGIN:VCALENDAR
VERSION:2.0
PRODID:-//Shooting Star Casino | Minnesota Casino, Hotel and Event Center in Mahnomen, Minnesota - ECPv6.15.12.2//NONSGML v1.0//EN
CALSCALE:GREGORIAN
METHOD:PUBLISH
X-WR-CALNAME:Shooting Star Casino | Minnesota Casino, Hotel and Event Center in Mahnomen, Minnesota
X-ORIGINAL-URL:https://www.starcasino.com
X-WR-CALDESC:Events for Shooting Star Casino | Minnesota Casino, Hotel and Event Center in Mahnomen, Minnesota
REFRESH-INTERVAL;VALUE=DURATION:PT1H
X-Robots-Tag:noindex
X-PUBLISHED-TTL:PT1H
BEGIN:VTIMEZONE
TZID:America/Chicago
BEGIN:DAYLIGHT
TZOFFSETFROM:-0600
TZOFFSETTO:-0500
TZNAME:CDT
DTSTART:20250309T080000
END:DAYLIGHT
BEGIN:STANDARD
TZOFFSETFROM:-0500
TZOFFSETTO:-0600
TZNAME:CST
DTSTART:20251102T070000
END:STANDARD
BEGIN:DAYLIGHT
TZOFFSETFROM:-0600
TZOFFSETTO:-0500
TZNAME:CDT
DTSTART:20260308T080000
END:DAYLIGHT
BEGIN:STANDARD
TZOFFSETFROM:-0500
TZOFFSETTO:-0600
TZNAME:CST
DTSTART:20261101T070000
END:STANDARD
BEGIN:DAYLIGHT
TZOFFSETFROM:-0600
TZOFFSETTO:-0500
TZNAME:CDT
DTSTART:20270314T080000
END:DAYLIGHT
BEGIN:STANDARD
TZOFFSETFROM:-0500
TZOFFSETTO:-0600
TZNAME:CST
DTSTART:20271107T070000
END:STANDARD
END:VTIMEZONE
BEGIN:VTIMEZONE
TZID:UTC
BEGIN:STANDARD
TZOFFSETFROM:+0000
TZOFFSETTO:+0000
TZNAME:UTC
DTSTART:20250101T000000
END:STANDARD
END:VTIMEZONE
BEGIN:VEVENT
DTSTART;VALUE=DATE:20260401
DTEND;VALUE=DATE:20260501
DTSTAMP:20260425T061625
CREATED:20250828T204402Z
LAST-MODIFIED:20260331T160950Z
UID:10158278-1775001600-1777593599@www.starcasino.com
SUMMARY:Canadian Cash Boost
DESCRIPTION:Mondays – Thursdays in April! \nNeighbors to the north – make your dollar go farther! We want to invite you to visit us and take advantage of the Canadian Cash Boost. Mondays thru Thursdays in April guests with a valid Canadian ID can earn points and exchange up to $300 Canadian Cash for $300 Star Cash! \nHere’s how it works: \n\nEarn 20 points – Exchange $100 Canadian Cash for $100 Star Cash\nEarn 60 points total – Exchange a second $100 Canadian Cash for $100 Star Cash\nEarn 100 points total – Exchange a third $100 Canadian Cash for $100 Star Cash\n\nEarn points within each daily window\, from 12AM – 11:59PM\, to unlock each exchange level. Once the required points are earned\, swipe at a kiosk to receive your coupon. Present the coupon at the Cashier window to receive the Star Cash on your Star Rewards card\, upon currency exchange. \nRedemption Periods: \n\nMon – Thurs Qualification in April\n\nEach promotional day runs from 12:00 AM – 11:59 PM.\nExample: Monday’s qualification begins at 12:00 AM and ends at 11:59 PM\, then resets for Tuesday’s period. \n\n\n\nPoints Progression System: Players must earn points within each daily window\, from 12AM – 11:59PM to unlock each exchange level. \n*Offer is valid one time\, per day\, per guest. \nRules Brochure
URL:https://www.starcasino.com/event/canadian-cash-boost/
CATEGORIES:Bagley Promotions,Mahnomen Promotions
ATTACH;FMTTYPE=image/png:https://www.starcasino.com/wp-content/uploads/2025/08/CanadianCashBoost_Sept2025_web.png
END:VEVENT
BEGIN:VEVENT
DTSTART;VALUE=DATE:20260424
DTEND;VALUE=DATE:20260426
DTSTAMP:20260425T061625
CREATED:20231104T154606Z
LAST-MODIFIED:20260304T174905Z
UID:10015107-1776988800-1777161599@www.starcasino.com
SUMMARY:Shirts and Skins
DESCRIPTION:8PM – 12:30AM\nShirts & Skins is one of the most dynamic touring bands in the upper Midwest. Their musicianship\, exceptional training and dynamic show will have you captivated from the very first note. With a diverse song list\, Shirts & Skins hits all genres and musical tastes. This is a band that brings passion\, excitement\, and positive energy to audiences all across the United States. \nComprised of seasoned veteran performers from some of the most popular bands throughout Twin Cities and the Midwest\, Shirts & Skins represents the utmost in musicianship and professionalism. The band features a rotating set of two dynamic female lead singers\, backed by a very solid core of talented musicians on drums\, bass\, and guitar\, as well as electric fiddle and keyboard. Their broad instrumentation produces a versatile\, full sound. Additionally\, because every member of the band also sings\, they are able to incorporate rich vocal harmonies and seamlessly transition between musical styles. \nShirts & Skins focus on dance-able hit songs\, with enough variety to please all listeners. Their set lists are custom tailored for every event\, featuring contemporary Pop\, Classic Rock (60 s\, 70 s\, 80 s\, and 90 s)\, Funk\, Blues\, and Classic/Modern Country. \nYou ll be thrilled with Shirts and Skins\, as this is a band that keeps the crowd singing and dancing all night!
URL:https://www.starcasino.com/event/shirts-and-skins-2/
CATEGORIES:Mustang Lounge
ATTACH;FMTTYPE=image/jpeg:https://www.starcasino.com/wp-content/uploads/2023/11/Shirts-The-Ultimate-Party-1.jpg
END:VEVENT
BEGIN:VEVENT
DTSTART;TZID=America/Chicago:20260426T170000
DTEND;TZID=America/Chicago:20260426T200000
DTSTAMP:20260425T061625
CREATED:20260323T134534Z
LAST-MODIFIED:20260324T182554Z
UID:10181113-1777222800-1777233600@www.starcasino.com
SUMMARY:Spring Showdown SUV Giveaway
DESCRIPTION:CHANCE TO WIN CASH OR A NEW SUV!\nSUNDAYS IN APRIL | 5PM-8PM\nMAHNOMEN & BAGLEY \nGet ready for the ultimate spring celebration at Shooting Star Casino! The Spring Showdown SUV Giveaway happens every Sunday in April with escalating cash  prizes\, building to an incredible grand finale on April 26\, featuring a brand-new SUV. From March 30 through April 26\, guests receive one entry for every 25 slot/tier points earned. \nDOUBLE ENTRIES ON TUESDAYS AND THURSDAYS DURING THE PROMOTION.\nHOURLY CASH DRAWINGS | WIN UP TO $3\,500\nGRAND PRIZE DRAWING | APRIL 26 | 8PM\nWIN A NEW SUV! \n*See rules brochure for complete details.
URL:https://www.starcasino.com/event/spring-showdown-suv-giveaway/2026-04-26/
CATEGORIES:Bagley Promotions,Mahnomen Promotions
ATTACH;FMTTYPE=image/png:https://www.starcasino.com/wp-content/uploads/2026/03/SpringShowdownSUVGiveaway_2026_Website.png
END:VEVENT
BEGIN:VEVENT
DTSTART;TZID=UTC:20260427T180000
DTEND;TZID=UTC:20260427T190000
DTSTAMP:20260425T061625
CREATED:20251001T161009Z
LAST-MODIFIED:20260422T181028Z
UID:10019225-1777312800-1777316400@www.starcasino.com
SUMMARY:Teleconference Bingo Fun!
DESCRIPTION:Teleconference Bingo will be played every Friday and Monday at 6pm.\nFriday\, April 24 | 52#s for 10-$1\,000 Winners\nAll games pay $500\nConsolation on Coverall $500\nMinimum payout of $100 per game.\n(Cost of Green Cards – $5) \nMonday\, April 27 | 52#s for 1 – $1\,199 Winner\nAll games pay $200\nConsolation on Coverall $200\nMinimum payout of $50 per game.\n(Cost of Purple Cards – $3) \nTeleconference is played at:\n\nLITTLE DIPPER BAR & GRILL AT SHOOTING STAR – BAGLEY!\nMUSTANG LOUNGE\nIce Cracking\nBerry’s Bar\nBones 113 (Mondays Only)\nCallaway\nLean To Tavern\nMahnomen Liquor Store – Wild Rice Lounge\nPinehurst\nOgema Liquor Store (Fridays Only)\nRuffed Grouse Roadhouse\nPeachy’s Pub\nSundown Bar (Fridays Only)\nCedar Crest (Memorial Day-Labor Day – Mondays Only)\nMahnomen Country Club (Memorial Day-Labor Day – Fridays Only)\n\n*Locations subject to change. \n  \nClick Here for Rules
URL:https://www.starcasino.com/event/teleconference-bingo-2-2/2026-04-27/
CATEGORIES:Bingo
ATTACH;FMTTYPE=image/jpeg:https://www.starcasino.com/wp-content/uploads/2022/09/TeleConf_MonFri_Sept2022_WebGraphic.jpg
END:VEVENT
BEGIN:VEVENT
DTSTART;TZID=America/Chicago:20260428T070000
DTEND;TZID=America/Chicago:20260428T190000
DTSTAMP:20260425T061625
CREATED:20241023T171152Z
LAST-MODIFIED:20241203T204226Z
UID:10096731-1777359600-1777402800@www.starcasino.com
SUMMARY:50+ Spectacular Senior Stars
DESCRIPTION:Extended Hours & Amazing Prizes\nTuesdays | Mahnomen: 7AM-7PM | Bagley: 11AM-7PM\nEarn 15 points and swipe at the kiosk to participate in the Spin the Wheel Kiosk Game and you could win Star Cash\, a dining offer or up to $100 cash. \nClick here for rules.
URL:https://www.starcasino.com/event/50-spectacular-senior-stars-2/2026-04-28/
CATEGORIES:Bagley Promotions,Mahnomen Promotions
ATTACH;FMTTYPE=image/png:https://www.starcasino.com/wp-content/uploads/2024/08/Spectacular-Senior-Stars2024_webevent.png
END:VEVENT
BEGIN:VEVENT
DTSTART;VALUE=DATE:20260429
DTEND;VALUE=DATE:20260430
DTSTAMP:20260425T061625
CREATED:20250731T145446Z
LAST-MODIFIED:20251222T150302Z
UID:10155012-1777420800-1777507199@www.starcasino.com
SUMMARY:Wednesday Thrills
DESCRIPTION:EVERY WEDNESDAY | 12AM-11:59PM \nPlay using your Star Rewards card and you could receive Star Cash!\nEarn 25 points = $5 Star Cash\nEarn 50 points = $5 Star Cash\nEarn 75 Points = $5 Star Cash\nEarn 125 Points = $10 Star Cash \nClick here for official rules.
URL:https://www.starcasino.com/event/wednesday-thrills/2026-04-29/
CATEGORIES:Bagley Promotions,Mahnomen Promotions
ATTACH;FMTTYPE=image/jpeg:https://www.starcasino.com/wp-content/uploads/2020/09/WednesdayThrills_Oct2020_WebGraphic.jpg
END:VEVENT
BEGIN:VEVENT
DTSTART;TZID=America/Chicago:20260429T180000
DTEND;TZID=America/Chicago:20260429T200000
DTSTAMP:20260425T061625
CREATED:20241023T165814Z
LAST-MODIFIED:20241023T170753Z
UID:10096467-1777485600-1777492800@www.starcasino.com
SUMMARY:Meat Raffle
DESCRIPTION:Swipe your Star Rewards card Wednesdays\, between 5PM-7:59PM\, to receive a FREE entry slip. Place slip in the drawing barrel at Star Rewards. Drawings will be held each hour. \n8PM | $75 Meat Bundle\n7PM | $50 Meat Bundle\n6PM | $25 Meat Bundle \nClick here for rules brochure.
URL:https://www.starcasino.com/event/meat-raffle-2/2026-04-29/
CATEGORIES:Bagley Promotions
ATTACH;FMTTYPE=image/png:https://www.starcasino.com/wp-content/uploads/2023/10/MeatRaffleNov2023_WebEvent.png
END:VEVENT
BEGIN:VEVENT
DTSTART;TZID=America/Chicago:20260429T190000
DTEND;TZID=America/Chicago:20260429T200000
DTSTAMP:20260425T061625
CREATED:20260310T183334Z
LAST-MODIFIED:20260310T183334Z
UID:10179644-1777489200-1777492800@www.starcasino.com
SUMMARY:We Fest Karaoke Contest
DESCRIPTION:Mustang Lounge | Mahnomen \nApril 8\, 22 & 29 & May 13 | 7PM \nFinals: May 27 | 7PM \nShowdown: July 12 | 1PM \nThe WE Fest Karaoke Contest is back and it’s your chance to win two general admission tickets to WE Fest\,\nPLUS\, sing the national anthem on the main stage on August 7! \nCompete at the Mustang Lounge on the dates above with the hopes of making it to the Showdown on July 12 at 1PM. \nRegular Karaoke to follow
URL:https://www.starcasino.com/event/we-fest-karaoke-contest/2026-04-29/
CATEGORIES:Mustang Lounge
ATTACH;FMTTYPE=image/png:https://www.starcasino.com/wp-content/uploads/2026/03/WeFestKaraokeShowdown2026_webgraphic.png
END:VEVENT
BEGIN:VEVENT
DTSTART;TZID=America/Chicago:20260430T180000
DTEND;TZID=America/Chicago:20260430T210000
DTSTAMP:20260425T061625
CREATED:20260323T134822Z
LAST-MODIFIED:20260324T183646Z
UID:10181118-1777572000-1777582800@www.starcasino.com
SUMMARY:Spring Cash Bloom Thursdays!
DESCRIPTION:THURSDAYS IN APRIL | 6PM-9PM | MAHNOMEN & BAGLEY\nSpring into winning this April! Earn entries all month long for a chance to win grills\, patio sets\, outdoor gear\, or up to $1\,500 Cash. Earn entries April 1-30\, one entry for every 10 slot/tier points earned. \nEVERY THURSDAY CASH DRAWINGS | 6PM-8PM\nGRAND PRIZE DRAWINGS | 9PM \nApril 2 | Propane Grill Set\nApril 9 | Pellet Grill Smoker\nApril 16 | Patio Furniture Set\nApril 23 | Outdoor Living Package\nApril 30 | Premium Outdoor Set \n*See rules brochure for complete details. Actual prizes may differ from those pictured. \n 
URL:https://www.starcasino.com/event/spring-cash-bloom-thursdays/2026-04-30/
CATEGORIES:Bagley Promotions,Mahnomen Promotions
ATTACH;FMTTYPE=image/png:https://www.starcasino.com/wp-content/uploads/2026/03/SpringCashBloomThursdays_2026_web.png
END:VEVENT
END:VCALENDAR